BEGIN:VCALENDAR
PRODID:-//OpenSNP Project.//OpenSNP iCal(https://e-jan.kakegawa-net.jp/community/?bbs_id=132140)//
VERSION:2.0
CALSCALE:GREGORIAN
METHOD:PUBLISH
X-WR-CALNAME:保健予防課 - 掛川市地域ＳＮＳ「ｅ－じゃん掛川」
X-WR-CALDESC:保健予防課 - 掛川市地域ＳＮＳ「ｅ－じゃん掛川」
X-WR-TIMEZONE:Asia/Tokyo
BEGIN:VEVENT
UID:274441dc1ca35eb3b03fde4daf2c3e7b8e182bff
CREATED:19000101T120000Z
DTSTART;VALUE=DATE:20110905
DTEND;VALUE=DATE:20110906
SUMMARY:「中心血圧」をご存じですか?
DESCRIPTION: 　《健康づくり講演会》\n　　血圧あれこれ　～あなたの知らない体の秘密～\n\n\n　「中心血圧」をご存じですか？\n\n　中心血圧とは心臓近くの大動脈の血圧のことをいい、\n脳卒中や心筋梗塞、心不全などと関連すると言われてい\nます。身近な血圧ですが、健康づくりには正しい理解が\n大切です。\n\n　この機会に「血圧」について学びましょう！！\n\n\nと　き　　９月１７日（土）１３:３０～（受付13:00～）\n\nところ　　徳育保健センター\n\n講　師　　自治医科大学　内科学講座環器内科学部門\n　　　　　　　　　　　　教授　島田和幸先生　\n\n定　員　　１５０名　\n　　　　　　※事前に申込みが必要です\n\n申込み　電話・ＦＡＸ・Ｅメールでお申し込みください\n　方法　①件名は「H23健康づくり講演会」としてください\n　　　　　②住所③氏名（ふりがな）④年齢⑤電話番号\n\n申込み＆　　掛川市保健予防課　掛川市御所原９－２８\n問い合わせ　電　話　０５３７－２３－８１１１\n　　　　　　　ＦＡＸ ０５３７－２３－９５５５\n　　　　　　　Eメール　t-center@city.kakegawa.shizuoka.jp
LOCATION:
DTSTAMP:20110905T152220Z
LAST-MODIFIED:19700101T090000Z
SEQUENCE:0
STATUS:CONFIRMED
TRANSP:OPAQUE
END:VEVENT
BEGIN:VEVENT
UID:bf30a58c8887b2e7f3292358d90c4b912c6efc2a
CREATED:19000101T120000Z
DTSTART;VALUE=DATE:20121012
DTEND;VALUE=DATE:20121013
SUMMARY:みんなで広めよう!　糖尿病予防の輪!
DESCRIPTION: １１月１４日（水）は「世界糖尿病デー」です。\n糖尿病の脅威が世界規模で拡大しているのを受け、国連は２００６年に糖尿病対策に積極的に取り組む決議を採択、11月14日（水）の世界糖尿病デーは国連が定めました。\n\n◆掛川市の取り組み【11月11日（日）実施】\n\n　・第１部　糖尿病予防講演会\n　　　開催日時　11月11日（日）１４：３０～１６：３０\n　　　会　　場　徳育保健センター・ホール\n　　　演　　題　①「健康食品について」\n　　　　　　　　　②「ボケ!?トシ!?そして糖尿病」\n\n　・第２部　ウォーキング大会\n　　　開催日時　１１月11日（日）１７：００～１９：００\n　　　集合場所　徳育保健センター（掛川城～坂川沿い遊歩道）\n　　　定　　員　　１００名（先着順）\n　　　その他　　　ウォーキング中の事故ついては各自の保険で\n　　　　　　　　　対応願います。\n\n　・その他　講演会、ウォーキング大会共に参加費無料です。\n　・お問い合わせ、お申し込み先\n　　　掛川市保健予防課　電話０５３７－２３－８１１１\n
LOCATION:
DTSTAMP:20121012T171923Z
LAST-MODIFIED:19700101T090000Z
SEQUENCE:0
STATUS:CONFIRMED
TRANSP:OPAQUE
END:VEVENT
BEGIN:VTIMEZONE
TZID:Asia/Tokyo
BEGIN:STANDARD
DTSTART:19700101T000000
TZOFFSETFROM:+0900
TZOFFSETTO:+0900
END:STANDARD
END:VTIMEZONE
END:VCALENDAR