BEGIN:VCALENDAR
PRODID:-//OpenSNP Project.//OpenSNP iCal(https://e-jan.kakegawa-net.jp/community/?bbs_id=135271)//
VERSION:2.0
CALSCALE:GREGORIAN
METHOD:PUBLISH
X-WR-CALNAME:Atlantic Committee - 掛川市地域ＳＮＳ「ｅ－じゃん掛川」
X-WR-CALDESC:Atlantic Committee - 掛川市地域ＳＮＳ「ｅ－じゃん掛川」
X-WR-TIMEZONE:Asia/Tokyo
BEGIN:VEVENT
UID:e4daa289aed8464f23910393f156e468611168e5
CREATED:19000101T120000Z
DTSTART;VALUE=DATE:20080929
DTEND;VALUE=DATE:20080930
SUMMARY:コーニング市友好訪問団　帰国報告会
DESCRIPTION: 1.　開会:　　 　副会長　\n2.　会長挨拶:　NPO理事長、会長\n\n3.　来賓挨拶:　市長、教育長、横高校長　\n4.　帰国報告:　団長、団員\n5.　閉会:　　　 理事\n\n\n大須賀　市民交流センター　会議室　1.2.\n  \n\n\n\n
LOCATION:
DTSTAMP:20080916T120845Z
LAST-MODIFIED:19700101T090000Z
SEQUENCE:0
STATUS:CONFIRMED
TRANSP:OPAQUE
END:VEVENT
BEGIN:VEVENT
UID:9031786537028bfa7ca10e85c4b9064da84e6b52
CREATED:19000101T120000Z
DTSTART;VALUE=DATE:20081025
DTEND;VALUE=DATE:20081026
SUMMARY:2008 ALT　集会　　
DESCRIPTION: 会場　大淵農村環境改善センター・アイク\n\n          http://e-jan.kakegawa-net.jp/modules/topic/topic_view.phtml?id=200905&amp;grpcd=135271\n\n
LOCATION:
DTSTAMP:20080924T143000Z
LAST-MODIFIED:19700101T090000Z
SEQUENCE:0
STATUS:CONFIRMED
TRANSP:OPAQUE
END:VEVENT
BEGIN:VEVENT
UID:7f7e87ed6fb3f8296b5673ad4363bacfa82747fc
CREATED:19000101T120000Z
DTSTART;VALUE=DATE:20081213
DTEND;VALUE=DATE:20081214
SUMMARY:交歓会　2008
DESCRIPTION: 時　２００８年１２月１３日土曜日　午後６時より\n所　中華料理店「好」\n\n参加者　英会話教室メンバー
LOCATION:
DTSTAMP:20081203T195913Z
LAST-MODIFIED:19700101T090000Z
SEQUENCE:0
STATUS:CONFIRMED
TRANSP:OPAQUE
END:VEVENT
BEGIN:VEVENT
UID:8b9eedeeea2524a08ed49c10e2d4486da8f766c3
CREATED:19000101T120000Z
DTSTART;VALUE=DATE:20081216
DTEND;VALUE=DATE:20081217
SUMMARY:Tea Party with Ben &amp;amp; Rachel
DESCRIPTION: On Tuesday, December 16, 2008. 7:30-8:30 p.m.\nEnglish Conversation members only\nAt Aik, Oobuchi, Kakegawa\n\n \n　　　　　
LOCATION:
DTSTAMP:20081215T171148Z
LAST-MODIFIED:19700101T090000Z
SEQUENCE:0
STATUS:CONFIRMED
TRANSP:OPAQUE
END:VEVENT
BEGIN:VEVENT
UID:51a1e3b0eddb86c4c0a18f495417db90eae308b6
CREATED:19000101T120000Z
DTSTART;VALUE=DATE:20090315
DTEND;VALUE=DATE:20090316
SUMMARY:Excursion to Gotemba 
DESCRIPTION: 8:00 Oosuka Branch\n\n Donation campaign to BULFAM\n 8:30 Kakegawa (Kotonari) \n At Fujikawa Service Area \n 10:30 Toki-no-Sumika (Gotemba)  \n In Mugibatake restaurant\n 13:10 Chichibu-no-miya Memorial Park (Gotemba)\n　　　　　souvenier photographs  \n 14:20 Kirin Beer factory (15:00-15:50) \n Happy circles \nin a Bar of Kirin Distiller at Gotemba  \n 19:00 Oosuka Branch  \n
LOCATION:
DTSTAMP:20090310T165942Z
LAST-MODIFIED:19700101T090000Z
SEQUENCE:0
STATUS:CONFIRMED
TRANSP:OPAQUE
END:VEVENT
BEGIN:VEVENT
UID:dc1d6e0d750bb09bdc679db3bbc82a27bf6250bb
CREATED:19000101T120000Z
DTSTART;VALUE=DATE:20090705
DTEND;VALUE=DATE:20090706
SUMMARY:Barbecue Party  at Yokoku-ji temple
DESCRIPTION: Mainly for members of English Conversation Class.\nFor guests from Corning as Friendship Delegation 2009.\nFor ALT Jacqueline N. Taylor who is to return to her country, New Zealand, July 2009.  \n\nYokoku-ji is located in Okinosu, Kakegawa-city. (see map)   \n\n　　　　　\n　　　　　\n　　　　　
LOCATION:
DTSTAMP:20090627T021614Z
LAST-MODIFIED:19700101T090000Z
SEQUENCE:0
STATUS:CONFIRMED
TRANSP:OPAQUE
END:VEVENT
BEGIN:VEVENT
UID:0dad947566502b38b67cf692f03c4009e70e57cb
CREATED:19000101T120000Z
DTSTART;VALUE=DATE:20091013
DTEND;VALUE=DATE:20091014
SUMMARY:Welcome Party for Kyle Nagao 
DESCRIPTION: 　　　　　　　　　 　\n\nTime: Tuesday, October 13, 2009\n      7:00 pm\n\nPlace: Takeuma restaurant\n       Oobuchi 6338\n       Tel: 0537-48-5403\n\n
LOCATION:
DTSTAMP:20090929T215419Z
LAST-MODIFIED:19700101T090000Z
SEQUENCE:0
STATUS:CONFIRMED
TRANSP:OPAQUE
END:VEVENT
BEGIN:VEVENT
UID:9cb17ab027aa3c2b498628b37079e8f51ce68295
CREATED:19000101T120000Z
DTSTART;VALUE=DATE:20091215
DTEND;VALUE=DATE:20091216
SUMMARY:Year-end Party 2009
DESCRIPTION: Time: December 15, 2009 20:00-22:00  \nVenue: Ninniku-ya, Kakegawa. tel:0537-62-1229  \nRachel Phillips (UK) joined us.\n17 people attended.  \nOrganizer: Yayoi Suzuki  \n\n　　
LOCATION:
DTSTAMP:20091202T012054Z
LAST-MODIFIED:19700101T090000Z
SEQUENCE:0
STATUS:CONFIRMED
TRANSP:OPAQUE
END:VEVENT
BEGIN:VEVENT
UID:669707f836f82bfc0b026bf76043057c20735c1a
CREATED:19000101T120000Z
DTSTART;VALUE=DATE:20100123
DTEND;VALUE=DATE:20100124
SUMMARY:New-year Party 2010  
DESCRIPTION: All AFA (Atlantic Friendship Association) members were invited.\nVenue:  Youkoku-ji (temple) Okinosu, Kakegawa\n        Tel: 0537-48-5075  \n\n　　　　　
LOCATION:
DTSTAMP:20091218T101431Z
LAST-MODIFIED:19700101T090000Z
SEQUENCE:0
STATUS:CONFIRMED
TRANSP:OPAQUE
END:VEVENT
BEGIN:VEVENT
UID:ae182bdbbf27ad5a51e8c87888acc7870f1311ad
CREATED:19000101T120000Z
DTSTART;VALUE=DATE:20100307
DTEND;VALUE=DATE:20100308
SUMMARY:Bus Excursion 2010
DESCRIPTION: Destinations: Ryugashi-do Cave, Yama-no-ie restaurant (Okuyama), and Syunka-do confectionary factory \n\nStarted from Oosuka branch of the Kakegawa City Office at 8:00 a.m.　and stopped at Fukuroi JR  Station.\n\nLunch in a broiled meat restaurant\n\nReturned to Oosuka Branch office 3:00 p.m.  \n\n　　　　　　　　　　Outlook of Ryugashi-do　　　　At the entrance　　　　　  　　　   In the cave\n\n　　　　　　　　　　　\nIn a reataurant　　　　　　　　　　In the bus　　　　　　　　　　　　　Taking rest　　 \n   \n　　　　\n　　　　　　　　　　　　　　\n\n.
LOCATION:
DTSTAMP:20100302T165439Z
LAST-MODIFIED:19700101T090000Z
SEQUENCE:0
STATUS:CONFIRMED
TRANSP:OPAQUE
END:VEVENT
BEGIN:VEVENT
UID:202088b90ebec2caa5ad8d6f1d14f2dfb4b9324c
CREATED:19000101T120000Z
DTSTART;VALUE=DATE:20100605
DTEND;VALUE=DATE:20100606
SUMMARY:2010 KIC General Assembly 
DESCRIPTION: On Saturday at Kakegawa City Hall 4F.\n\nRetiring Boardmen: Tsuneharu Shinba (Chair), Hiroyuki Mizoguchi, Hideyoshi Takabuchi and (Akira Mizuno).  \n\nAttendants\n\nNewly nominated Boardmen: Ryoudo Hiramatsu, Keiji Matsumoto, Kashirou Kobayashi (Chair), and Jun-ichi Oosumi.  \n\nLover's Jam: Entertainers after the meeting. \nVocal: Ricky (Rikiko Nishio) \nSynthesizer: Urupy (Tsuneo Urushibata)  \n\n・・・・・・・・・・・・・・・・・・・・・\n\nGeneral Assembly of the last year, June 6  \n\n
LOCATION:
DTSTAMP:20100605T213314Z
LAST-MODIFIED:19700101T090000Z
SEQUENCE:0
STATUS:CONFIRMED
TRANSP:OPAQUE
END:VEVENT
BEGIN:VEVENT
UID:997b2addb1aefe66fee36efccabb054e23be66fb
CREATED:19000101T120000Z
DTSTART;VALUE=DATE:20100609
DTEND;VALUE=DATE:20100610
SUMMARY:2010 delegation to Corning City NY 
DESCRIPTION: 　　　　　　　　　　　　　　　　　　AFA Chairman\n　　　　　Explanation Meeting for 20th Delegation to Corning, NY was held on Wednesday \nat Oosuka Civic Exchange Center.\n\nLeader of the last delegation\n 　　　　　　　　　　　　\n　　　　　　　　　　　　　　　　　　　A Member of the last delegation 　\n\nSat. Jun. 26, 2010 Inaugural Rally of 2010 Delegation, 19:00- \n\nStudy 1.   Sat. Jul. 17, 9:30-14:00\n\nStudy 2.   Thu. Aug. 5, 13:30-15:30\nStudy 3.   Wed. Aug. 11, 19:00-21:00\n\nDeparture:  Tue. Aug. 17, 2010\n\nArrival:    Thu. Aug. 26, 2010\n\n
LOCATION:
DTSTAMP:20100611T043922Z
LAST-MODIFIED:19700101T090000Z
SEQUENCE:0
STATUS:CONFIRMED
TRANSP:OPAQUE
END:VEVENT
BEGIN:VEVENT
UID:45f8ba29a9ce0ee366418289ea803628569d1207
CREATED:19000101T120000Z
DTSTART;VALUE=DATE:20100619
DTEND;VALUE=DATE:20100620
SUMMARY:Halcyon Binder sit in contemplation (zazen).
DESCRIPTION: Halcyon Binder (18) sit in religious contemplation under the guidance of Buddhist priest Ryoudou Hiramatsu in Yokoku-ji temple, Okinosu Kakegawa. She is a collegeate of Oregon state, U.S.A.   \n\n　　　　　　　　　　\n　　　　　　　　　\n　　　　　
LOCATION:
DTSTAMP:20100619T225032Z
LAST-MODIFIED:19700101T090000Z
SEQUENCE:0
STATUS:CONFIRMED
TRANSP:OPAQUE
END:VEVENT
BEGIN:VEVENT
UID:fa360fafa7832e0062476c11d54369ffb5dd759e
CREATED:19000101T120000Z
DTSTART;VALUE=DATE:20100720
DTEND;VALUE=DATE:20100721
SUMMARY:Farewell Party for Benjamin Morgan &amp;amp; Welcome Party for Corning Delegation
DESCRIPTION: Place: 'Takeuma' restaurant, Oobuchi 6338\n      Tel: 0537-48-5403  \n\n\n　　　　　　\n\nGuests\n\nBenjamin Morgan (26) UK (Manchester) \nDaniel Watson (17) US (Corning, NY)\nBenjamin Fimlaid (19) US (Corning, NY)\nDaniel Fimlaid (52) US (Corning, NY)
LOCATION:Takeuma, Oobuchi
DTSTAMP:20100714T134840Z
LAST-MODIFIED:20160920T064113Z
SEQUENCE:0
STATUS:CONFIRMED
TRANSP:OPAQUE
END:VEVENT
BEGIN:VTIMEZONE
TZID:Asia/Tokyo
BEGIN:STANDARD
DTSTART:19700101T000000
TZOFFSETFROM:+0900
TZOFFSETTO:+0900
END:STANDARD
END:VTIMEZONE
END:VCALENDAR