BEGIN:VCALENDAR
PRODID:-//OpenSNP Project.//OpenSNP iCal(https://e-jan.kakegawa-net.jp/community/?bbs_id=141359)//
VERSION:2.0
CALSCALE:GREGORIAN
METHOD:PUBLISH
X-WR-CALNAME:大須賀市民交流センター - 掛川市地域ＳＮＳ「ｅ－じゃん掛川」
X-WR-CALDESC:大須賀市民交流センター - 掛川市地域ＳＮＳ「ｅ－じゃん掛川」
X-WR-TIMEZONE:Asia/Tokyo
BEGIN:VEVENT
UID:1dff1beeb6ca14b9eb53e9ebe947dd29e01a1cc9
CREATED:19000101T120000Z
DTSTART;VALUE=DATE:20090928
DTEND;VALUE=DATE:20090929
SUMMARY:是非見に来て下さい。いよいよ始まるよ。
DESCRIPTION: 10月23日～25日までちっちやな文化展開催。県内外から大勢の方が訪れます。交流センターでは小石川さんのおりがみを展示します。空間を生かした素敵な展示になる予定。折り紙と言ってもこれって本当に折ってあるの？と思ってしまうほどです。当日は簡単な折り紙体験もできます。こどもから大人まで楽しめます。交流センターでお待ちしています。お会いできるのを楽しみに。ＭＴ
LOCATION:
DTSTAMP:20090928T121433Z
LAST-MODIFIED:19700101T090000Z
SEQUENCE:0
STATUS:CONFIRMED
TRANSP:OPAQUE
END:VEVENT
BEGIN:VEVENT
UID:387ade69913bd0b17b62cbe46961c948696f1e29
CREATED:19000101T120000Z
DTSTART;VALUE=DATE:20100815
DTEND;VALUE=DATE:20100816
SUMMARY:9月12日(日)開催です
DESCRIPTION: 大須賀市民交流センターの「第一回こうりゅう祭」を開催します。家族やお友達同士で、お一人でも十分楽しめます。時間、午前１０時～午後３時です。体験コーナー，マレットゴルフ（参加賞あり）ピラティス（１１時と１１時３０分）短歌、ちぎり絵、小物づくり、モビールづくり、絵手紙、どのコーナーも無料で体験できます。登録団体の方が指導してくれます。マレットゴルフは、交流センターへ申し込んでね。いつでもいいです。（火曜日は休館）展示その他のコーナー,\n手をつなぐ育成会、トイレットペーパー・パン販売.小笠山緑の少年団、活動写真展示.\n社会福祉協議会、パンフレット配布.健康づくり食生活推進協議会、活動紹介.花の香楽会、遠州横須賀倶楽部、映像での活動紹介.人権擁護委員会、活動紹介とパンフレット配布.災害ＶＣ、災害用品（あると便利グッズ）の紹介.包丁の研ぎ方教室、包丁研ぎサービスと体験１２:00～先着２０名です。ぜひぜひ大須賀市民交流センターに来てね！見て、体験して、あなたも活動の輪に入りませんか？お待ちしています。問い合わせ電話０５３７－４８－１００２交流センターまでどうぞ\n\n\n\n
LOCATION:
DTSTAMP:20100815T202318Z
LAST-MODIFIED:19700101T090000Z
SEQUENCE:0
STATUS:CONFIRMED
TRANSP:OPAQUE
END:VEVENT
BEGIN:VEVENT
UID:8b09189119b93847ac74c255721c367cac021718
CREATED:19000101T120000Z
DTSTART;VALUE=DATE:20130929
DTEND;VALUE=DATE:20130930
SUMMARY:「こうりゅう祭」のご案内
DESCRIPTION: 丁度、１ヶ月先になります。９月２９日（日）９時開会式・９時３０分、各コーナーオープンです。今回第４回となります大須賀市民交流センター「こうりゅう祭」に是非おこし下さい。体験コーナー・試食コーナー・採れたて野菜の販売・お抹茶・ストレッチ運動・カロム・など子どもから大人まで、どなたでも楽しめるよう企画いたしました。雨天決行です。皆様に「来て良かったやー」と思っていただけるよう努めます。お楽しみに。詳細は９月中旬にご案内させていただきます。会場は、もちろん大須賀支所２階大須賀市民交流センターです。\n当日は、どなたさまでもご利用いただけます。
LOCATION:
DTSTAMP:20130829T191511Z
LAST-MODIFIED:19700101T090000Z
SEQUENCE:0
STATUS:CONFIRMED
TRANSP:OPAQUE
END:VEVENT
BEGIN:VEVENT
UID:d0eec2df9b53f6cef950f328c5390cad1ce6848e
CREATED:19000101T120000Z
DTSTART;VALUE=DATE:20130920
DTEND;VALUE=DATE:20130921
SUMMARY:山岳ガイド・山晴塾　映写会のご案内
DESCRIPTION: 日時　平成２５年９月２０日（金）１８：３０～９：００\n場所　大須賀市民交流センター\n小川さん達が今年の春から夏に歩いた北アルプスをはじめ山岳写真を上映いたします。\n是非ご覧下さい。\nチラシをご覧の皆様、文面の一部にミスがありました。曜日ミスです。２０日は金曜日ですよね。訂正をさせていただきます。当日は、直接会場へおこし下さい。お待ちしています。
LOCATION:
DTSTAMP:20130908T172312Z
LAST-MODIFIED:19700101T090000Z
SEQUENCE:0
STATUS:CONFIRMED
TRANSP:OPAQUE
END:VEVENT
BEGIN:VEVENT
UID:3b40cb57a8273606bd923a3cbfeeaba4bf47cc44
CREATED:19000101T120000Z
DTSTART;VALUE=DATE:20130929
DTEND;VALUE=DATE:20130930
SUMMARY:こうりゅう祭のご案内・続編です。
DESCRIPTION: ９月２９日（日）９：００開会式・各コーナーの体験、販売は９：３０～です。好天でありますように祈るばかりです。もちろん、雨天決行ですが一人でも多くの方にご来館いただきたいので。当日の協力団体の紹介です。「創作人形・さくらの会」「NPO法人フラワーセラピー研究会」「KーJOINT」「ちぎり絵」「東日本大震災支援掛川市民の会」「サークル・手すさび」「赤十字奉仕団大須賀支部」「健康づくり食生活推進協議会・大須賀支部」「カロム楽校」「大須賀茶道連盟」「NPO法人とうもんの会」「交流センター運営協議会」体験コーナーは無料のものがほとんどですが、一部有料のコーナーがあります。（清水邸のお抹茶１００円・アロマオイルマッサージ１回３００円など）確認してね。是非口コミで宣伝してください。小さなお子さんから大人まできっと楽しむ事ができますよ。お待ちしていま～す。
LOCATION:
DTSTAMP:20130918T171544Z
LAST-MODIFIED:19700101T090000Z
SEQUENCE:0
STATUS:CONFIRMED
TRANSP:OPAQUE
END:VEVENT
BEGIN:VEVENT
UID:8b367165cd5ca3071813773e3123cf636fc35f34
CREATED:19000101T120000Z
DTSTART;VALUE=DATE:20130929
DTEND;VALUE=DATE:20130930
SUMMARY:いよいよ明日です。
DESCRIPTION: こうりゅう祭、明日です。今日は昼から参加協力団体の皆さんが準備に追われていました。大変なのに協力いただき感謝です。天気も良いようで、うれしい限りです。参加型のイベントです。是非おこし下さい。\n子どもから大人まで楽しめるよう、準備が整いました。スタッフ一同、皆様のご来館をお待ちしています。\nもちろん、参加協力団体団体の皆さんも大勢のご来館を楽しみにしています。
LOCATION:
DTSTAMP:20130928T195509Z
LAST-MODIFIED:19700101T090000Z
SEQUENCE:0
STATUS:CONFIRMED
TRANSP:OPAQUE
END:VEVENT
BEGIN:VTIMEZONE
TZID:Asia/Tokyo
BEGIN:STANDARD
DTSTART:19700101T000000
TZOFFSETFROM:+0900
TZOFFSETTO:+0900
END:STANDARD
END:VTIMEZONE
END:VCALENDAR