BEGIN:VCALENDAR
PRODID:-//OpenSNP Project.//OpenSNP iCal(https://e-jan.kakegawa-net.jp/community/?bbs_id=144117)//
VERSION:2.0
CALSCALE:GREGORIAN
METHOD:PUBLISH
X-WR-CALNAME:ライブ！いいじゃん - 掛川市地域ＳＮＳ「ｅ－じゃん掛川」
X-WR-CALDESC:ライブ！いいじゃん - 掛川市地域ＳＮＳ「ｅ－じゃん掛川」
X-WR-TIMEZONE:Asia/Tokyo
BEGIN:VEVENT
UID:49cba7162917a02f517bf64c487fbf409cc9690c
CREATED:19000101T120000Z
DTSTART;VALUE=DATE:20091215
DTEND;VALUE=DATE:20091216
SUMMARY:「ライブ!いいじゃん Vol.2」
DESCRIPTION: 「ライブ！いいじゃん Vol.2」を開催します！「ライブ！いいじゃん」は、いいじゃん編集局スタッフが「ｅ-じゃん掛川」の楽しい使い方や有効な活用の仕方を、みなさんの傾向に合わせて提案し、質問にもお答えします！\nまた、面白い情報の交換や雑談など、みんなでワイワイ楽しみながら、交流し合う場です♪\nお気軽に「ライブ！いいじゃん」へご参加ください（＾ー＾）\n\n■開催日時\n平成21年12月15日（火）19:00～20:30\n\n■会場\n掛川市竹の丸\n掛川市掛川1200-1（TEL 0537-22-2112）\n\n■参加費\n無料\n\n■対象\nどなたでも参加OK！（ｅ－じゃん掛川に登録していなくてもOK！）\n\n■申込\n不要（直接会場へお越しください）\n※事前に参加が決まっている方は、画面左下の参加ボタンをクリックしていただけたら嬉しいです。\n\n■駐車場\n西側の臨時駐車場でお願いします。\n（竹の丸敷地内はご遠慮ください）\n\n■備考\n・当日は、お茶菓子を用意してあります♪\n・会場は冷え込むことが予想されますので、スリッパ・膝掛けなどを  お持ちいただくと良いかと思います。\n・入退室自由となっております。時間より遅れて入室しても、早く退室しても大丈夫です！\n・無線LAN環境が整っていますので、ご自分のパソコンを持ってきてもよし！もちろん、パソコンを持たなくても大丈夫です！\n\n■問合せ先\nいいじゃん掛川編集局／杉山・河住\n掛川市肴町3－2（TEL 0537-21-2711）\nsns@slowlife.info\n「ライブ！いいじゃん Vol.1」の様子はこちらから↓\nhttp://e-jan.kakegawa-net.jp/modules/topic/topic_view.phtml?id=294133&amp;grpcd=144117\n\nスタッフ一同、お待ちしています！いいじゃん掛川編集局／河住、杉山
LOCATION:
DTSTAMP:20091208T132946Z
LAST-MODIFIED:19700101T090000Z
SEQUENCE:0
STATUS:CONFIRMED
TRANSP:OPAQUE
END:VEVENT
BEGIN:VEVENT
UID:6632d31c518c8e17a8ba7f5aed63afbed57349a6
CREATED:19000101T120000Z
DTSTART;VALUE=DATE:20100119
DTEND;VALUE=DATE:20100120
SUMMARY:「ライブ!いいじゃん Vol.3」
DESCRIPTION: 「ライブ！いいじゃん Vol.3」を開催します！「ライブ！いいじゃん」は、いいじゃん編集局スタッフが「ｅ-じゃん掛川」の楽しい使い方や有効な活用の仕方を、みなさんの傾向に合わせて提案し、質問にもお答えします！\n今回は「コミュニティについて」をテーマにお話しをします！\nそして、面白い情報の交換や雑談など、みんなでワイワイ楽しみながら、交流し合う場です♪\nお気軽に「ライブ！いいじゃん」へご参加ください（＾ー＾）\n\n\n■開催日時\n平成22年1月19日（火）19:00～20:30\n■会場\n掛川市竹の丸\n掛川市掛川1200-1（TEL 0537-22-2112）\n■参加費\n無料\n■対象\nどなたでも参加OK！（ｅ－じゃん掛川に登録していなくてもOK！）\n■申込\n不要（直接会場へお越しください）\n※事前に参加が決まっている方は、画面左下の参加ボタンをクリックしていただけたら嬉しいです。\n■駐車場\n西側の臨時駐車場でお願いします。\n（竹の丸敷地内はご遠慮ください）\n■備考\n・当日は、お茶菓子を用意してあります♪\n・会場は冷え込むことが予想されます。スリッパ・膝掛けなどを  お持ちいただくと良いかと思います。\n・入退室自由となっております。時間より遅れて入室しても、早く退室しても大丈夫です！\n・無線LAN環境が整っていますので、ご自分のパソコンを持ってきてもよし！もちろん、パソコンを持たなくても大丈夫です！\n■問合せ先\nいいじゃん掛川編集局／杉山・河住\n掛川市肴町3－2（TEL 0537-21-2711）\nsns@slowlife.info\n\n\n「ライブ！いいじゃん 」の様子はこちらから↓\n☆Vol.1☆\nhttp://e-jan.kakegawa-net.jp/modules/topic/topic_view.phtml?id=294133&amp;grpcd=144117\n☆Vol.2☆\nhttp://e-jan.kakegawa-net.jp/modules/topic/topic_view.phtml?id=299912&amp;grpcd=144117\n\nスタッフ一同、心よりお待ちしております！いいじゃん掛川編集局／河住、杉山
LOCATION:
DTSTAMP:20100107T115926Z
LAST-MODIFIED:19700101T090000Z
SEQUENCE:0
STATUS:CONFIRMED
TRANSP:OPAQUE
END:VEVENT
BEGIN:VEVENT
UID:66b5187c263079b31c68bde84e8eb2318fb2a449
CREATED:19000101T120000Z
DTSTART;VALUE=DATE:20100216
DTEND;VALUE=DATE:20100217
SUMMARY:「ライブ!いいじゃん Vol.4」
DESCRIPTION: 「ライブ！いいじゃん Vol.4」を開催します！「ライブ！いいじゃん」は、いいじゃん編集局スタッフが「ｅ-じゃん掛川」の楽しい使い方や有効な活用の仕方を、みなさんの傾向に合わせて提案し、質問にもお答えします！\nそして、面白い情報の交換や雑談など、みんなでワイワイ楽しみながら、交流し合う場です♪\nお気軽に「ライブ！いいじゃん」へご参加ください（＾ー＾）\n今回は「コミュニティについて：Part2」をテーマにお話しをします！\n\n\n■開催日時\n平成22年2月16日（火）19:00～20:30\n■会場\n掛川市竹の丸\n掛川市掛川1200-1（TEL 0537-22-2112）\n■参加費\n無料\n■対象\nどなたでも参加OK！（ｅ－じゃん掛川に登録していなくてもOK！）\n■申込\n不要（直接会場へお越しください）\n※事前に参加が決まっている方は、画面左下の参加ボタンをクリックしていただけたら嬉しいです。\n■駐車場\n西側の臨時駐車場でお願いします。\n（竹の丸敷地内はご遠慮ください）\n■備考\n・当日は、お茶菓子を用意してあります♪\n・会場は冷え込むことが予想されます。スリッパ・膝掛けなどを  お持ちいただくと良いかと思います。\n・入退室自由となっております。時間より遅れて入室しても、早く退室しても大丈夫です！\n・無線LAN環境が整っていますので、ご自分のパソコンを持ってきてもよし！もちろん、パソコンを持たなくても大丈夫です！\n■問合せ先\nいいじゃん掛川編集局／杉山・河住\n掛川市肴町3－2（TEL 0537-21-2711）\nsns@slowlife.info\n\n\n「ライブ！いいじゃん 」の様子はこちらから↓\n☆Vol.1☆\nhttp://e-jan.kakegawa-net.jp/modules/topic/topic_view.phtml?id=294133&amp;grpcd=144117\n☆Vol.2☆\nhttp://e-jan.kakegawa-net.jp/modules/topic/topic_view.phtml?id=299912&amp;grpcd=144117\n☆Vol.3☆\nhttp://e-jan.kakegawa-net.jp/modules/topic/topic_view.phtml?id=303356&amp;grpcd=144117\n\nスタッフ一同、心よりお待ちしております！いいじゃん掛川編集局／河住、杉山
LOCATION:
DTSTAMP:20100205T164204Z
LAST-MODIFIED:19700101T090000Z
SEQUENCE:0
STATUS:CONFIRMED
TRANSP:OPAQUE
END:VEVENT
BEGIN:VEVENT
UID:49f946a9cd127d07452924ab280bc33cfc39cdf1
CREATED:19000101T120000Z
DTSTART;VALUE=DATE:20100316
DTEND;VALUE=DATE:20100317
SUMMARY:「ライブ!いいじゃん Vol.5」
DESCRIPTION: 「ライブ！いいじゃん Vol.5」を開催します！今年度最後の「ライブ！いいじゃん」は、少しだけ「スペシャルバージョン」となっております！\n\n「ライブ！いいじゃん」は、いいじゃん編集局スタッフが「ｅ-じゃん掛川」の楽しい使い方や有効な活用の仕方を、みなさんの傾向に合わせて提案し、質問にもお答えします！\nそして、面白い情報の交換や雑談など、みんなでワイワイ楽しみながら、交流し合う場です♪\nお気軽に「ライブ！いいじゃん」へご参加ください（＾ー＾）\n今回は「日記機能について」のお話もあります！\n\n\n■開催日時\n平成22年3月16日（火）19:00～20:30\n■会場\n掛川市竹の丸\n掛川市掛川1200-1（TEL 0537-22-2112）\n■参加費\n無料\n■対象\nどなたでも参加OK！（ｅ－じゃん掛川に登録していなくてもOK！）\n■申込\n不要（直接会場へお越しください）\n※事前に参加が決まっている方は、画面左下の参加ボタンをクリックしていただけたら嬉しいです。\n■駐車場\n西側の臨時駐車場でお願いします。\n（竹の丸敷地内はご遠慮ください）\n■備考\n・当日は、ちょこっとスペシャルなお茶菓子を用意してあります♪\n・お持ち寄りパーティーになるといいと思いますので、みなさまからの差し入れ大歓迎です！（強制ではありませんので、ご安心ください♪）\n・会場は冷え込むことが予想されます。スリッパ・膝掛けなどを  お持ちいただくと良いかと思います。\n・入退室自由となっております。時間より遅れて入室しても、早く退室しても大丈夫です！\n・無線LAN環境が整っていますので、ご自分のパソコンを持ってきてもよし！もちろん、パソコンを持たなくても大丈夫です！\n■問合せ先\nいいじゃん掛川編集局／杉山・河住\n掛川市肴町3－2（TEL 0537-21-2711）\nsns@slowlife.info\n\n今までの「ライブ！いいじゃん 」の様子はこちらから↓\nhttp://e-jan.kakegawa-net.jp/modules/topic/topic_view.phtml?id=315391&amp;grpcd=144117\nスタッフ一同、心よりお待ちしております！いいじゃん掛川編集局／河住、杉山
LOCATION:
DTSTAMP:20100310T161427Z
LAST-MODIFIED:19700101T090000Z
SEQUENCE:0
STATUS:CONFIRMED
TRANSP:OPAQUE
END:VEVENT
BEGIN:VEVENT
UID:686abae3236955662771fbbede5bcae015868c3c
CREATED:19000101T120000Z
DTSTART;VALUE=DATE:20100420
DTEND;VALUE=DATE:20100421
SUMMARY:「ライブ!いいじゃん Vol.6」
DESCRIPTION: ◆｡+｡◆｡+｡◆｡+｡◆｡+｡◆｡+｡◆｡+｡◆｡+｡◆｡+｡◆｡+｡◆｡+｡◆｡+｡◆｡+｡◆｡+｡◆｡+｡◆｡\n「ライブ！いいじゃん Vol.6」を開催します！「ライブ！いいじゃん」は、いいじゃん編集局スタッフが「ｅ-じゃん掛川」の楽しい使い方や有効な活用の仕方を、みなさんの傾向に合わせて提案し、質問にもお答えします！\nそして、面白い情報の交換や雑談など、みんなでワイワイ楽しみながら、交流し合う場です♪\nお気軽に「ライブ！いいじゃん」へご参加ください（＾ー＾）\n今回は『携帯電話を使った「ｅ－じゃん掛川」』をテーマにお話しをします！\n\n■開催日時：平成22年4月20日（火）19:00～20:30\n\n■会場：掛川市竹の丸  掛川市掛川1200-1（TEL 0537-22-2112）\n\n■参加費：無料\n\n■対象：どなたでも参加OK！（ｅ－じゃん掛川に登録していなくてもOK！）\n\n■申込：不要（直接会場へお越しください）\n※事前に参加が決まっている方は、画面左下の参加ボタンをクリックしていただけたら嬉しいです。\n\n■駐車場：西側の臨時駐車場でお願いします。（竹の丸敷地内はご遠慮ください）\n\n■備考\n・当日は、お茶菓子を用意してあります♪\n・スリッパがあると、足が冷たくありません！\n・入退室自由となっております。時間より遅れて入室しても、早く退室しても大丈夫です！\n・無線LAN環境が整っていますので、ご自分のパソコンを持ってきてもよし！もちろん、パソコンを持たなくても大丈夫です！\n\n■問合せ先\nいいじゃん掛川編集局／杉山・河住\n掛川市肴町3－2（TEL 0537-21-2711）sns@slowlife.info\n\n「ライブ！いいじゃん 」の様子はこちらから↓\nhttp://e-jan.kakegawa-net.jp/modules/topic/topic_view.phtml?id=315391&amp;grpcd=144117\n◆｡+｡◆｡+｡◆｡+｡◆｡+｡◆｡+｡◆｡+｡◆｡+｡◆｡+｡◆｡+｡◆｡+｡◆｡+｡◆｡+｡◆｡+｡◆｡+｡◆｡
LOCATION:
DTSTAMP:20100415T100638Z
LAST-MODIFIED:19700101T090000Z
SEQUENCE:0
STATUS:CONFIRMED
TRANSP:OPAQUE
END:VEVENT
BEGIN:VEVENT
UID:5f5b1a9c7fdf90a7938ba93e457aeae3aa539961
CREATED:19000101T120000Z
DTSTART;VALUE=DATE:20100518
DTEND;VALUE=DATE:20100519
SUMMARY:「ライブ!いいじゃん Vol.7」
DESCRIPTION: ●○●○●○●○●○●○●○●○●○●○●○●○●○●○●○●○●○●○●○●○●○●○●○●○●○●○●○●○●○●○●○●○●○●○  \n「ライブ！いいじゃん Vol.7」を開催します！「ライブ！いいじゃん」は、いいじゃん編集局スタッフが「ｅ-じゃん掛川」の楽しい使い方や有効な活用の仕方を、みなさんの傾向に合わせて提案し、質問にもお答えします！\nそして、面白い情報の交換や雑談など、みんなでワイワイ楽しみながら、交流し合う場です♪\nお気軽に「ライブ！いいじゃん」へご参加ください（＾ー＾）\n今回は「『ｅ－じゃん掛川』に動画アップをしよう」をテーマにお話いたします！\n少し上級編になりますが、知って楽しいし「へぇ～」と思うことがたくさんあるはずですよ！\n\n\n■開催日時：平成22年5月18日（火）19:00～20:30\n\n■会場：掛川市竹の丸  掛川市掛川1200-1（TEL 0537-22-2112）\n\n■参加費：無料\n\n■対象：どなたでも参加OK！（ｅ－じゃん掛川に登録していなくてもOK！）\n\n■申込：不要（直接会場へお越しください）\n※事前に参加が決まっている方は、画面左下の参加ボタンをクリックしていただけたら嬉しいです。\n\n■駐車場：西側の臨時駐車場でお願いします。（竹の丸敷地内はご遠慮ください）\n\n■備考\n・当日は、お茶菓子を用意してあります♪\n・スリッパがあると、足が冷たくありませんよ～！\n・入退室自由となっております。時間より遅れて入室しても、早く退室しても大丈夫です。\n・無線LAN環境が整っていますので、ご自分のパソコンを持ってきてもよし！もちろん、パソコンを持たなくても大丈夫です！\n\n■問合せ先\nいいじゃん掛川編集局／杉山・河住\n掛川市肴町3－2（TEL 0537-21-2711）sns@slowlife.info\n\n「ライブ！いいじゃん 」の様子はこちらから↓\nhttp://e-jan.kakegawa-net.jp/modules/topic/topic_view.phtml?id=315391&amp;grpcd=144117\n\n●○●○●○●○●○●○●○●○●○●○●○●○●○●○●○●○●○●○●○●○●○●○●○●○●○●○●○●○●○●○●○●○●○●○
LOCATION:
DTSTAMP:20100511T150109Z
LAST-MODIFIED:19700101T090000Z
SEQUENCE:0
STATUS:CONFIRMED
TRANSP:OPAQUE
END:VEVENT
BEGIN:VEVENT
UID:acbc4e5367e9c88edeaf6050d356dce1be223070
CREATED:19000101T120000Z
DTSTART;VALUE=DATE:20100619
DTEND;VALUE=DATE:20100620
SUMMARY:「お散歩!いいじゃん」
DESCRIPTION: 今月は「ライブ！いいじゃん」のスペシャルバージョンとして…\n「お散歩！いいじゃん」を開催いたします～！\n\n  \nテーマ【携帯から写真付き日記を「ｅ－じゃん掛川」にアップしよう！】\n今回は室内の講座ではなく、実際に外に出てお散歩を楽しみながら「ｅ－じゃん掛川」の使い方を学びましょう♪\nお散歩中は “掛川城スタッフの小澤孝司さん” に掛川城周辺のことを解説していただきます！\nそして携帯で写真を撮り、その場で日記をアップしましょう☆\nお気軽にご参加ください～(^0^)/♪\n\n■日時：平成22年6月19日（土）9:30～12:00\n※今月の（6/15）「ライブ！いいじゃん」はお休みとなります。\n\n■会場：掛川市竹の丸、掛川城、掛川城周辺\n\n■当日のスケジュール\n○9：30　竹の丸集合\n○9：30～10：00　竹の丸にて、携帯からの投稿のやり方を説明\n○10：00～11：30　「お散歩！いいじゃん」\n○11：30～12：00　竹の丸にて、質疑応答・解散\n\n■参加費：無料\n\n■対象：どなたでも参加OK！（ｅ－じゃん掛川に登録していなくてもOK！）\n\n■申込：不要（直接会場へお越しください）\n※事前に参加が決まっている方は、画面左下の参加ボタンをクリックしていただけたら嬉しいです。\n\n■当日の持ち物：携帯、動きやすい服装（帽子、水分があるといいかも！）\n\n■駐車場：西側の臨時駐車場でお願いします。（竹の丸敷地内はご遠慮ください）\n\n■問合せ先\nいいじゃん掛川編集局／杉山・河住\n掛川市肴町3－2（TEL 0537-21-2711）sns@slowlife.info\n\nーーーーーーーーーーーーーーーーーーーーーーーーーーーーーーー\n今までの「ライブ！いいじゃん 」の様子はこちらから↓\nhttp://e-jan.kakegawa-net.jp/modules/topic/topic_view.phtml?id=315391&amp;grpcd=144117\nーーーーーーーーーーーーーーーーーーーーーーーーーーーーーーー
LOCATION:
DTSTAMP:20100604T141523Z
LAST-MODIFIED:19700101T090000Z
SEQUENCE:0
STATUS:CONFIRMED
TRANSP:OPAQUE
END:VEVENT
BEGIN:VEVENT
UID:003fcaa03ad5b89e86a316d1c37757c0ee77785a
CREATED:19000101T120000Z
DTSTART;VALUE=DATE:20100720
DTEND;VALUE=DATE:20100721
SUMMARY:「ライブ!いいじゃん Vol.9」
DESCRIPTION: 「ライブ！いいじゃん Vol.9」を開催します！「ライブ！いいじゃん」は、いいじゃん編集局スタッフが「ｅ-じゃん掛川」の楽しい使い方や\n有効な活用の仕方を、みなさんの傾向に合わせて提案し、質問にもお答えしますそして、面白い情報の交換や雑談など、みんなでワイワイ楽しみながら、交流し合う場ですお気軽に「ライブ！いいじゃん」へご参加ください今回は「画像について」をテーマにお話いたします！\n（画像サイズを小さくする方法、画像の修正、写真の整理の仕方 etc...）\n知って楽しく「へぇ～」と思うことがたくさんあるはずですよ\n\n 開催日時：平成22年7月20日（火）19:00～20:30\n 会場：掛川市竹の丸  掛川市掛川1200-1（TEL 0537-22-2112）\n 参加費：無料\n 対象：どなたでも参加OK！（ｅ－じゃん掛川に登録していなくてもOK！）\n 申込：不要（直接会場へお越しください）\n　※事前に参加が決まっている方は、画面左下の参加ボタンをクリックしていただけたら嬉しいです。\n 駐車場：西側の臨時駐車場でお願いします。（竹の丸敷地内はご遠慮ください）\n 備考\n　・当日は、お茶菓子を用意してあります♪\n　・スリッパがあると、足が冷たくありませんよ～！\n　・入退室自由となっております。時間より遅れて入室しても、早く退室しても大丈夫です。\n　・無線LAN環境が整っていますので、ご自分のパソコンを持ってきてもよし！もちろん、パソコンを持なくても大丈夫です！\n 問合せ先：いいじゃん掛川編集局／杉山・河住\n　 436-0078 掛川市肴町3－2\n　 0537-21-2711\n　 sns@slowlife.info\n\n今までの「ライブ！いいじゃん 」の様子はこちらからhttp://e-jan.kakegawa-net.jp/modules/topic/topic_view.phtml?id=315391&amp;grpcd=144117\n\n
LOCATION:
DTSTAMP:20100713T133646Z
LAST-MODIFIED:19700101T090000Z
SEQUENCE:0
STATUS:CONFIRMED
TRANSP:OPAQUE
END:VEVENT
BEGIN:VEVENT
UID:f01ac97281e0298060e2ee9477231adff30b39bf
CREATED:19000101T120000Z
DTSTART;VALUE=DATE:20100817
DTEND;VALUE=DATE:20100818
SUMMARY:「ライブ!いいじゃん Vol.10」
DESCRIPTION: 「ライブ！いいじゃん Vol.10」を開催します！「ライブ！いいじゃん」は、いいじゃん編集局スタッフが「ｅ-じゃん掛川」の楽しい使い方や有効な活用の仕方を、みなさんの傾向に合わせて提案し、質問にもお答えしますそして、面白い情報の交換や雑談など、みんなでワイワイ楽しみながら、交流し合う場ですお気軽に「ライブ！いいじゃん」へご参加ください今回は「画像について&lt;Part.2&gt;」をテーマにお話いたします！\n（画像サイズを小さくする方法、画像の修正、写真の整理の仕方 etc...）\n知って楽しく「へぇ～」と思うことがたくさんあるはずですよ\n\n 開催日時：平成22年8月17日（火）19:00～20:30\n 会場：掛川市竹の丸  掛川市掛川1200-1（TEL 0537-22-2112）\n 参加費：無料\n 対象：どなたでも参加OK！（ｅ－じゃん掛川に登録していなくてもOK！）\n 申込：不要（直接会場へお越しください）\n　※事前に参加が決まっている方は、画面左下の参加ボタンをクリックしていただけたら嬉しいです。\n 駐車場：西側の臨時駐車場でお願いします。（竹の丸敷地内はご遠慮ください）\n 備考\n　・当日は、お茶菓子を用意してあります♪\n　・スリッパがあると、足が冷たくありませんよ～！\n　・入退室自由となっております。時間より遅れて入室しても、早く退室しても大丈夫です。\n　・無線LAN環境が整っていますので、ご自分のパソコンを持ってきてもよし！もちろん、パソコンを持なくても大丈夫です！\n 問合せ先：いいじゃん掛川編集局／杉山・河住\n　 436-0078 掛川市肴町3－2\n　 0537-21-2711\n　 sns@slowlife.info\n\n今までの「ライブ！いいじゃん 」の様子はこちらからhttp://e-jan.kakegawa-net.jp/modules/topic/topic_view.phtml?id=315391&amp;grpcd=144117\n\n
LOCATION:
DTSTAMP:20100809T161735Z
LAST-MODIFIED:19700101T090000Z
SEQUENCE:0
STATUS:CONFIRMED
TRANSP:OPAQUE
END:VEVENT
BEGIN:VEVENT
UID:5ac43e9850545d5603d907fd095a4304a7d836d6
CREATED:19000101T120000Z
DTSTART;VALUE=DATE:20100921
DTEND;VALUE=DATE:20100922
SUMMARY:「ライブ!いいじゃん Vol.11」
DESCRIPTION: 「ライブ！いいじゃん Vol.11」を開催します！いいじゃん編集局スタッフが「ｅ-じゃん掛川」の楽しい使い方や有効な活用事例をご紹介しながら、日ごろの疑問などにお答えします。\n\n「今度、イベントを開催するので『e-じゃん掛川』で発信してみたいな」\n「自分でやると、登録がうまくできないんだけど…」\n「みんなはどんなふうに使っているの？楽しみ方を教えて」\n「文字に色をつけたり、画像や映像のアップの仕方がわからないけど…」\n「今日は暇だし、ちょっと顔だしに行こうかな？」\n\nなどなど、情報の交換や雑談など、みんなでワイワイ楽しみながら交流し合う場です。\nお茶菓子もご用意していますので、お気軽に「ライブ！いいじゃん」へご参加ください今回のテーマは今話題の「twitter（ツイッター）について」です！\n（twitterって何？、twitterの見方、つぶやきの仕方など、twitterを知らない方にも分かりやすくお話をします。）\n9/11,12に開催された「地域SNS全国フォーラムin掛川」でも活用されました知って楽しく「へぇ～」と思うことがたくさんあるはずですよ\n\n 開催日時：平成22年9月21日（火）19:00～20:30\n 会場：掛川市竹の丸  掛川市掛川1200-1（TEL 0537-22-2112）\n 参加費：無料\n 対象：どなたでも参加OK！（ｅ－じゃん掛川に登録していなくてもOK！）\n 申込：不要（直接会場へお越しください）\n　※事前に参加が決まっている方は、画面左下の参加ボタンをクリックしていただけたら嬉しいです。\n 駐車場：西側の臨時駐車場でお願いします。（竹の丸敷地内はご遠慮ください）\n 備考：入退室自由です。無線LAN環境が整っています！\n 問合せ先：いいじゃん掛川編集局／杉山・河住\n　 436-0078 掛川市肴町3－2\n　 0537-21-2711\n　 sns@slowlife.info\n\n今までの「ライブ！いいじゃん 」の様子はこちらからhttp://e-jan.kakegawa-net.jp/modules/topic/topic_view.phtml?id=315391&amp;grpcd=144117\n
LOCATION:
DTSTAMP:20100915T153200Z
LAST-MODIFIED:19700101T090000Z
SEQUENCE:0
STATUS:CONFIRMED
TRANSP:OPAQUE
END:VEVENT
BEGIN:VEVENT
UID:1cdc0e1beb29a4c3b9554b2680e873469bd42eae
CREATED:19000101T120000Z
DTSTART;VALUE=DATE:20101019
DTEND;VALUE=DATE:20101020
SUMMARY:「ライブ!いいじゃん Vol.12」
DESCRIPTION: \n10月はスペシャルバージョン～あんこ系スイーツ特集～\nおしゃべり型「ライブ！いいじゃんVol.12」いいじゃん編集局スタッフが「ｅ-じゃん掛川」の楽しい使い方や\n有効な活用事例をご紹介しながら、日ごろの疑問などにお答えします「今度、イベントを開催するので『e-じゃん掛川』で発信してみたいな」\n「自分でやると、登録がうまくできないんだけど…」\n「みんなはどんなふうに使っているの？楽しみ方を教えて」\n「文字に色をつけたり、画像や映像のアップの仕方がわからないけど…」\n「今日は暇だし、ちょっと顔だしに行こうかな？」\nなどなど、情報の交換や雑談など、みんなでワイワイ楽しみながら交流し合う場です\n今回はテーマは決めず、ゆるゆるとお喋りを楽しめる会にしたいと思います“ちょこっと”スペシャルなお茶菓子もご用意していますお気軽に「ライブ！いいじゃん」へご参加ください\n\n 開催日時：平成22年10月19日（火）19:00～20:30\n 会場：掛川市竹の丸  掛川市掛川1200-1（TEL 0537-22-2112）\n 参加費：無料\n 対象：どなたでも参加OK！（ｅ－じゃん掛川に登録していなくてもOK！）\n 申込：不要（直接会場へお越しください）\n　※事前に参加が決まっている方は、画面左下の参加ボタンをクリックしていただけたら嬉しいです。\n 駐車場：西側の臨時駐車場でお願いします。（竹の丸敷地内はご遠慮ください）\n 備考：入退室自由です。無線LAN環境が整っています！\n 問合せ先：いいじゃん掛川編集局／杉山・河住\n 436-0078 掛川市肴町3－2\n 0537-21-2711\n sns@slowlife.info\n\n今までの「ライブ！いいじゃん 」の様子はこちらからhttp://e-jan.kakegawa-net.jp/modules/topic/topic_view.phtml?id=315391&amp;grpcd=144117
LOCATION:
DTSTAMP:20101013T115401Z
LAST-MODIFIED:19700101T090000Z
SEQUENCE:0
STATUS:CONFIRMED
TRANSP:OPAQUE
END:VEVENT
BEGIN:VEVENT
UID:71b7c04977700f24303b78e3c15af6e82c54053a
CREATED:19000101T120000Z
DTSTART;VALUE=DATE:20101116
DTEND;VALUE=DATE:20101117
SUMMARY:「ライブ!いいじゃん Vol.13」
DESCRIPTION: ２年目突入～\n「ライブ！いいじゃん Vol.13」を開催します！いいじゃん編集局スタッフが「ｅ-じゃん掛川」の楽しい使い方や有効な活用事例をご紹介しながら、日ごろの疑問などにお答えしますもちろん「e-じゃん掛川」に関係のないことでも、質問があれば分かる範囲でお答えしますよ～\n「今度、イベントを開催するので『e-じゃん掛川』で発信してみたいな」\n「自分でやると、登録がうまくできないんだけど…」\n「みんなはどんなふうに使っているの？楽しみ方を教えて」\n「文字に色をつけたり、画像や映像のアップの仕方がわからないけど…」\n「今日は暇だし、ちょっと顔だしに行こうかな？」\n\nなどなど、情報の交換や雑談など、みんなでワイワイ楽しみながら交流し合う場です。\nお茶菓子もご用意していますので、お気軽に「ライブ！いいじゃん」へご参加ください今回は「『e-じゃん掛川』のアンケート機能について」もお話します\n知って楽しく「へぇ～」と思うことがたくさんあるはずですよ\n\n 開催日時：平成22年11月16日（火）19:00～20:30\n 会場：掛川市竹の丸  掛川市掛川1200-1（TEL 0537-22-2112）\n 参加費：無料\n 対象：どなたでも参加OK！（ｅ－じゃん掛川に登録していなくてもOK！）\n 申込：不要（直接会場へお越しください）\n　※事前に参加が決まっている方は、画面左下の【参加】ボタンをクリックしていただけたら嬉しいです。\n 駐車場：西側の臨時駐車場でお願いします。（竹の丸敷地内はご遠慮ください）\n 備考：入退室自由。パソコン持込みOK！（無線LAN環境が整っています）スリッパはご持参ください。\n 問合せ先：いいじゃん掛川編集局／杉山・河住\n　 436-0078 掛川市肴町3－2\n　 0537-21-2711\n　 sns@slowlife.info\n\n今までの「ライブ！いいじゃん 」の様子はこちらからhttp://e-jan.kakegawa-net.jp/modules/topic/topic_view.phtml?id=315391&amp;grpcd=144117\n
LOCATION:
DTSTAMP:20101111T132956Z
LAST-MODIFIED:19700101T090000Z
SEQUENCE:0
STATUS:CONFIRMED
TRANSP:OPAQUE
END:VEVENT
BEGIN:VEVENT
UID:584c72c37380462dac80517d863c5bfda16503c6
CREATED:19000101T120000Z
DTSTART;VALUE=DATE:20101221
DTEND;VALUE=DATE:20101222
SUMMARY:「ライブ!いいじゃん Vol.14」
DESCRIPTION: 「ライブ！いいじゃん Vol.14」を開催します！いいじゃん編集局スタッフが「ｅ-じゃん掛川」の楽しい使い方や有効な活用事例をご紹介しながら、日ごろの疑問などにお答えしますもちろん「e-じゃん掛川」に関係のないことでも、質問があれば分かる範囲でお答えしますよ～\n「今度、イベントを開催するので『e-じゃん掛川』で発信してみたいな」\n「自分でやると、登録がうまくできないんだけど…」\n「みんなはどんなふうに使っているの？楽しみ方を教えて」\n「文字に色をつけたり、画像や映像のアップの仕方がわからないけど…」\n「今日は暇だし、ちょっと顔だしに行こうかな？」\n\nなどなど、情報の交換や雑談など、みんなでワイワイ楽しみながら交流し合う場です。\nお茶菓子もご用意していますので、お気軽に「ライブ！いいじゃん」へご参加ください今回は「『e-じゃん掛川』の新機能について」もお話します\n ○新機能の情報はこちらから\n知って楽しく「へぇ～」と思うことがたくさんあるはずですよ\n\n 開催日時：平成22年12月21日（火）19:00～20:30\n 会場：掛川市竹の丸  掛川市掛川1200-1（TEL 0537-22-2112）\n 参加費：無料\n 対象：どなたでも参加OK！（ｅ－じゃん掛川に登録していなくてもOK！）\n 申込：不要（直接会場へお越しください）\n　※事前に参加が決まっている方は、画面左下の【参加】ボタンをクリックしていただけたら嬉しいです。\n 駐車場：西側の臨時駐車場でお願いします。（竹の丸敷地内はご遠慮ください）\n 備考：入退室自由。パソコン持込みOK！（無線LAN環境が整っています）スリッパはご持参ください。\n 問合せ先：いいじゃん掛川編集局／杉山・河住\n　 436-0078 掛川市肴町3－2\n　 0537-21-2711\n　 sns@slowlife.info\n\n 今までの「ライブ！いいじゃん 」の様子はこちらから\n
LOCATION:
DTSTAMP:20101214T154344Z
LAST-MODIFIED:19700101T090000Z
SEQUENCE:0
STATUS:CONFIRMED
TRANSP:OPAQUE
END:VEVENT
BEGIN:VEVENT
UID:3908dbc9d1fcf3bd9ea751740fcc170ee0a59ad8
CREATED:19000101T120000Z
DTSTART;VALUE=DATE:20110118
DTEND;VALUE=DATE:20110119
SUMMARY:「ライブ!いいじゃん Vol.15」
DESCRIPTION: 「ライブ！いいじゃん Vol.15」を開催します！今回は“プチ新年会”バージョン！\nすいのや（駄菓子屋）のおでんを用意します(*^^)v\n\n\nいいじゃん編集局スタッフが「ｅ-じゃん掛川」の楽しい使い方や有効な活用事例をご紹介しながら、日ごろの疑問などにお答えしますもちろん「e-じゃん掛川」に関係のないことでも、質問があれば分かる範囲でお答えしますよ～\n「今度、イベントを開催するので『e-じゃん掛川』で発信してみたいな」\n「自分でやると、登録がうまくできないんだけど…」\n「みんなはどんなふうに使っているの？楽しみ方を教えて」\n「文字に色をつけたり、画像や映像のアップの仕方がわからないけど…」\n「今日は暇だし、ちょっと顔だしに行こうかな？」\n\nなどなど、情報の交換や雑談など、みんなでワイワイ楽しみながら交流し合う場です。\nお茶菓子もご用意していますので、お気軽に「ライブ！いいじゃん」へご参加ください\n\n 開催日時：2011年1月18日（火）19:00～20:30\n 会場：掛川市竹の丸  掛川市掛川1200-1（TEL 0537-22-2112）\n 参加費：無料\n 対象：どなたでも参加OK！（ｅ－じゃん掛川に登録していなくてもOK！）\n 申込：不要（直接会場へお越しください）\n　※事前に参加が決まっている方は、画面左下の【参加】ボタンをクリックしていただけたら嬉しいです。\n 駐車場：西側の臨時駐車場でお願いします。（竹の丸敷地内はご遠慮ください）\n 備考：入退室自由。パソコン持込みOK！（無線LAN環境が整っています）スリッパはご持参ください。\n 問合せ先：いいじゃん掛川編集局／杉山・河住\n　 436-0078 掛川市肴町3－2\n　 0537-21-2711\n　 sns@slowlife.info\n\n 今までの「ライブ！いいじゃん 」の様子はこちらから\n
LOCATION:
DTSTAMP:20110113T145745Z
LAST-MODIFIED:19700101T090000Z
SEQUENCE:0
STATUS:CONFIRMED
TRANSP:OPAQUE
END:VEVENT
BEGIN:VEVENT
UID:7377fe9e98c11c63602589062111ac9155c27302
CREATED:19000101T120000Z
DTSTART;VALUE=DATE:20110215
DTEND;VALUE=DATE:20110216
SUMMARY:「ライブ!いいじゃん Vol.16」
DESCRIPTION: 「ライブ！いいじゃん Vol.16」を開催します！いいじゃん編集局スタッフが「ｅ-じゃん掛川」の楽しい使い方や有効な活用事例をご紹介しながら、日ごろの疑問などにお答えしますもちろん「e-じゃん掛川」に関係のないことでも、質問があれば分かる範囲でお答えしますよ～\n「今度、イベントを開催するので『e-じゃん掛川』で発信してみたいな」\n「自分でやると、登録がうまくできないんだけど…」\n「みんなはどんなふうに使っているの？楽しみ方を教えて」\n「文字に色をつけたり、画像や映像のアップの仕方がわからないけど…」\n「今日は暇だし、ちょっと顔だしに行こうかな？」\n\nなどなど、情報の交換や雑談など、みんなでワイワイ楽しみながら交流し合う場です。\nお茶菓子もご用意していますので、お気軽に「ライブ！いいじゃん」へご参加ください今回は今話題の「Facebookについて」もお話します\n Facebookとは？\n知って楽しく「へぇ～」と思うことがたくさんあるはずですよ\n\n 開催日時：平成23年2月15日（火）19:00～20:30\n 会場：掛川市竹の丸  掛川市掛川1200-1（TEL 0537-22-2112）\n 参加費：無料\n 対象：どなたでも参加OK！（ｅ－じゃん掛川に登録していなくてもOK！）\n 申込：不要（直接会場へお越しください）\n　※事前に参加が決まっている方は、画面左下の【参加】ボタンをクリックしていただけたら嬉しいです。\n 駐車場：西側の臨時駐車場でお願いします。（竹の丸敷地内はご遠慮ください）\n 備考：入退室自由。パソコン持込みOK！（無線LAN環境が整っています）スリッパはご持参ください。\n 問合せ先：いいじゃん掛川編集局／杉山・河住\n　 436-0078 掛川市肴町3－2\n　 0537-21-2711\n　 sns@slowlife.info\n\n 今までの「ライブ！いいじゃん 」の様子はこちらから\n
LOCATION:
DTSTAMP:20110207T161245Z
LAST-MODIFIED:19700101T090000Z
SEQUENCE:0
STATUS:CONFIRMED
TRANSP:OPAQUE
END:VEVENT
BEGIN:VEVENT
UID:683ecb1bf3937027353ec74a0687e6ddf4eb5a3a
CREATED:19000101T120000Z
DTSTART;VALUE=DATE:20110315
DTEND;VALUE=DATE:20110316
SUMMARY:「ライブ!いいじゃん Vol.17」
DESCRIPTION: 「ライブ！いいじゃんvol.17」\n『e-じゃん掛川』で遊んじゃおう～♪\n「お茶のスタイル、私流」募集します！“ためしてガッテン”効果で盛り上がっている中、お茶を飲むのは「当たり前」の掛川人。\nそこで！「私のお気に入りの湯のみと急須」「こだわりのお茶缶」「お茶をのむ風景」などなど、\n『ライブ！いいじゃん』ではお茶（日本茶）に関係する、写真とコメントを大募集中します！\n\nそして、3月15日（火）19時より開催される　『ライブ！いいじゃん』で、投稿された写真やコメントを見て、\nみんなでお茶についておしゃべりしたいな～っと思いました！\n事前に写真やコメントを投稿することで、当日会場に来れなくても『ライブ！いいじゃん』に参加できます♪\n『e-じゃん掛川』を使って、ライブ感覚を味わいながら、「お茶自慢」「お茶って素敵」を紹介して盛り上がりましょう～！\n「ライブ！いいじゃん」へのご参加、またはご自宅からのご参加、お待ちしていま～す！\n☆拍手数が一番多い人には、編集局からプレゼントもありま～す！お楽しみに♪\n\n◎投稿期間：2011年3月3（木）～3月15日（火）20：00まで\n ◎投稿はこちらから（掛川交流コミュニティ）\n\n\n■開催日時：平成23年3月15日（火）19:00～20:30\n■会場：掛川市竹の丸  掛川市掛川1200-1（TEL 0537-22-2112）\n■参加費：無料\n■対象：どなたでも参加OK！（ｅ－じゃん掛川に登録していなくてもOK！）\n■申込：不要（直接会場へお越しください）\n　※事前に参加が決まっている方は、画面左下の【参加】ボタンをクリックしていただけたら嬉しいです。\n■駐車場：西側の臨時駐車場でお願いします。（竹の丸敷地内はご遠慮ください）\n■備考：入退室自由。パソコン持込みOK！（無線LAN環境が整っています）スリッパはご持参ください。\n■問合せ先：いいじゃん掛川編集局／杉山・河住\n〒436-0078 掛川市肴町3－2\nTEL／FAX：0537-21-2711\nE-mail：sns@slowlife.info\n\n 今までの「ライブ！いいじゃん 」の様子はこちらから♪\n\n
LOCATION:
DTSTAMP:20110303T134458Z
LAST-MODIFIED:19700101T090000Z
SEQUENCE:0
STATUS:CONFIRMED
TRANSP:OPAQUE
END:VEVENT
BEGIN:VEVENT
UID:fb5e3436bcd7f9e4effd0e5cd2fcacbd2902aee2
CREATED:19000101T120000Z
DTSTART;VALUE=DATE:20110329
DTEND;VALUE=DATE:20110330
SUMMARY:「ライブ!いいじゃんvol.17」
DESCRIPTION: 「ライブ！いいじゃんvol.17」延期になっていた「ライブ！いいじゃんvol.17」を開催します！\n\n3/11（金）に発生した「東北地方太平洋沖地震」\n日本国民全員が胸を痛めているのではないでしょうか。\n\n今回の災害について私たちは何ができるのか。\nまたいつ起こるか分からない災害に対して、どんな準備をしておけばいいのか。\n「ライブ！いいじゃんvol.17」では、\n“災害に備えて、「e-じゃん掛川」でできること”\n“SNSと防災の可能性”\nをみんなで話し合う時間を持てればいいと思います。\n※募集していた 「お茶のスタイル、私流」の表彰も行いたいと思います♪\n\n多くの方のご参加お待ちしていますm(__)m\n 開催日時：平成23年3月29日（火）19:00～20:30\n 会場：掛川市竹の丸 掛川市掛川1200-1（TEL 0537-22-2112）\n 参加費：無料\n 対象：どなたでも参加OK！（ｅ－じゃん掛川に登録していなくてもOK！）\n 申込：不要（直接会場へお越しください）\n　※事前に参加が決まっている方は、画面左下の【参加】ボタンをクリックしていただけたら嬉しいです。\n 駐車場：西側の臨時駐車場でお願いします。（竹の丸敷地内はご遠慮ください）\n 備考：入退室自由。パソコン持込みOK！（無線LAN環境が整っています）スリッパはご持参ください。\n 問合せ先：いいじゃん掛川編集局／杉山・河住\n〒436-0078 掛川市肴町3－2\nTEL／FAX：0537-21-2711\nE-mail：sns@slowlife.info\n\n 今までの「ライブ！いいじゃん 」の様子はこちらから♪\n\n
LOCATION:
DTSTAMP:20110324T131430Z
LAST-MODIFIED:19700101T090000Z
SEQUENCE:0
STATUS:CONFIRMED
TRANSP:OPAQUE
END:VEVENT
BEGIN:VEVENT
UID:5103f3cb6bbfbfa9b35b7ca11971fd30ff5590df
CREATED:19000101T120000Z
DTSTART;VALUE=DATE:20110619
DTEND;VALUE=DATE:20110620
SUMMARY:「ライブ!いいじゃん」×「友引カフェ」
DESCRIPTION: 「ライブ！いいじゃん」×「友引カフェ」コラボ企画～携帯を使って投稿しよう×美味しいスイーツ食べよう～\n\n久しぶりの「ライブ！いいじゃん」は、室内の講座ではなく外に出て楽しみましょう♪携帯から「e-じゃん掛川」への投稿の仕方を学び、実際に街（友引カフェ）に出掛けましょう。\nお好きなスイーツ・ドリンクを頼んで、その場でコメント・写真をアップ！「友引カフェ」の様子などもアップ！\n携帯の使い方を学びながら、楽しめること間違いなしです♪\nみなさまお気軽にご参加ください～（*^_^*）\n \n  ライブ！いいじゃんとは？\n  友引カフェとは？\n \n■日時／2011年6月19日（日）10：00～12：00　※雨天中止\n■会場／掛川市竹の丸、友引カフェ会場\n■参加費／500円（友引カフェで注文する、スイーツ・ドリンク代）\n■対象／どなたでも参加OK！（ｅ－じゃん掛川に登録していなくてもOK！）\n■申込／不要（直接竹の丸へお越しください）\n■当日の持ち物／携帯電話\n■駐車場／竹の丸西側の臨時駐車場でお願いします。（竹の丸敷地内はご遠慮ください）\n■問合せ先\nいいじゃん掛川編集局／杉山・河住\n掛川市肴町3－2（TEL 0537-21-2711）sns@slowlife.info\n \n【当日のスケジュール】\n○10：00　　　　　　　  　掛川市竹の丸集合\n○10：00～10：30　　 携帯からの投稿のやり方を説明（竹の丸・ギャラリー）\n○10：30～10：45　　 友引カフェ会場へ移動（駅前通り）\n○10：45～12：00頃　実際に携帯で投稿してみよう！☆スイーツ、ドリンクを楽しみながら♪ \n\n
LOCATION:
DTSTAMP:20110523T105307Z
LAST-MODIFIED:19700101T090000Z
SEQUENCE:0
STATUS:CONFIRMED
TRANSP:OPAQUE
END:VEVENT
BEGIN:VEVENT
UID:2cb5472e04f4aa5a0d6f2c47565f2f607a34cf48
CREATED:19000101T120000Z
DTSTART;VALUE=DATE:20111023
DTEND;VALUE=DATE:20111024
SUMMARY:「ライブ!いいじゃん」×「友引カフェ」コラボ企画!
DESCRIPTION: 「ライブ！いいじゃん」×「友引カフェ」コラボ企画～携帯を使って投稿しよう×美味しいスイーツ食べよう～\n\n6月に開催予定でしたが、雨天のため中止になってしまったこの企画…\n10/23（日）に開催される「友引カフェ」に合わせて実施します(^^♪\n\n久しぶりの「ライブ！いいじゃん」は、室内の講座ではなく外に出て楽しみましょう♪携帯から「e-じゃん掛川」への投稿の仕方を学び、実際に街（友引カフェ）に出掛けましょう。\nお好きなスイーツ・ドリンクを頼んで、その場でコメント・写真をアップ！「友引カフェ」の様子などもアップ！\n携帯の使い方を学びながら、楽しめること間違いなしです♪\nみなさまお気軽にご参加ください～（*^_^*）\n \n  ライブ！いいじゃんとは？\n  友引カフェとは？\n \n■日時／2011年10月23日（日）10：00～12：00　※雨天中止\n■会場／掛川市竹の丸、友引カフェ会場\n■参加費／500円（友引カフェで注文する、スイーツ・ドリンク代）\n■対象／どなたでも参加OK！（ｅ－じゃん掛川に登録していなくてもOK！）\n■申込／不要（直接竹の丸へお越しください）\n■当日の持ち物／携帯電話、「e-じゃん掛川」にログインするメールアドレスとパスワード（登録されている方）\n■駐車場／竹の丸敷地内駐車場の奥の方に入れてください。\n■問合せ先\nいいじゃん掛川編集局／杉山・河住\n掛川市肴町3－2（TEL 0537-21-2711）sns@slowlife.info\n \n【当日のスケジュール】\n○10：00　　　　　　　  　掛川市竹の丸集合\n○10：00～10：30　　 携帯からの投稿のやり方を説明（竹の丸・広間）\n○10：30～10：45　　 友引カフェ会場へ移動（駅前通り）\n○10：45～12：00頃　実際に携帯で投稿してみよう！☆スイーツ、ドリンクを楽しみながら♪\n\n
LOCATION:
DTSTAMP:20110916T163852Z
LAST-MODIFIED:19700101T090000Z
SEQUENCE:0
STATUS:CONFIRMED
TRANSP:OPAQUE
END:VEVENT
BEGIN:VEVENT
UID:82cc0b149997957d71f57b13ce18eaecd2a37107
CREATED:19000101T120000Z
DTSTART;VALUE=DATE:20120225
DTEND;VALUE=DATE:20120226
SUMMARY:「【そばけん】部室」×「ライブ!いいじゃん」コラボ企画★
DESCRIPTION: 今年度最後の「ライブ！いいじゃん」は「 【そばけん】部室」とコラボして、お蕎麦を振るまっていただくことになりましたヽ(･∀･)ﾉ♪\nお蕎麦を食べながら、情報の交換や雑談など、みんなでワイワイ楽しみながら交流しましょう！\nもちろん、いいじゃん編集局スタッフが「ｅ-じゃん掛川」の日ごろの疑問などにもお答えします！\n\n\n当日はどなたでも参加OKです！友達や家族のお誘いも大歓迎です♪\nお蕎麦の振る舞いは12：00～ですが、「【そばけん】部室」メンバーのみなさんは9：00～会場でお蕎麦の準備を始めています！\n「蕎麦を打っているところを生で見たい！」というは人は、早めに来て見学するのも大歓迎です（*^_^*）\n\n◎「ライブいいじゃん」コミュニティはこちらから\n\n\n 日にち\n2012年2月25日（土）\n 時間\n12：00～14：00頃（入退室自由）\n 会場:\n掛川市竹の丸（住所／掛川市掛川1200-1　電話／0537-22-2112）\n 参加費\n500円\n 対象\nどなたでも参加OK！（ｅ－じゃん掛川に登録していなくてもOK！）\n 申込\n不要（直接会場へお越しください）\n 駐車場\n竹の丸敷地内駐車場、または西側の臨時駐車場でお願いします。\n 備考\nパソコン持込みOK！（竹の丸は“wifiスポット”です）\n 問合せ先\nいいじゃん掛川編集局／杉山・河住\n　 436-0078 掛川市肴町3－2\n　 0537-21-2711\n　 sns@slowlife.info\n\n\nみなさま、ぜひお越しくださいませ♪\n
LOCATION:
DTSTAMP:20111222T161424Z
LAST-MODIFIED:19700101T090000Z
SEQUENCE:0
STATUS:CONFIRMED
TRANSP:OPAQUE
END:VEVENT
BEGIN:VTIMEZONE
TZID:Asia/Tokyo
BEGIN:STANDARD
DTSTART:19700101T000000
TZOFFSETFROM:+0900
TZOFFSETTO:+0900
END:STANDARD
END:VTIMEZONE
END:VCALENDAR