BEGIN:VCALENDAR
PRODID:-//OpenSNP Project.//OpenSNP iCal(https://e-jan.kakegawa-net.jp/community/?bbs_id=146658)//
VERSION:2.0
CALSCALE:GREGORIAN
METHOD:PUBLISH
X-WR-CALNAME:掛川観光協会大須賀支部 - 掛川市地域ＳＮＳ「ｅ－じゃん掛川」
X-WR-CALDESC:掛川観光協会大須賀支部 - 掛川市地域ＳＮＳ「ｅ－じゃん掛川」
X-WR-TIMEZONE:Asia/Tokyo
BEGIN:VEVENT
UID:95007aefd0bdf78222b1c2e7bdde2eb254aa0223
CREATED:19000101T120000Z
DTSTART;VALUE=DATE:20111227
DTEND;VALUE=DATE:20111228
SUMMARY:年越三社会
DESCRIPTION: 　遠州横須賀倶楽部主催による年越三社会が、12月31日大晦日の午後11時より三熊野神社境内にて行われます。\n　年越三社会では、大福もちや年越しそばの販売のほか、誰でも楽しめる抽選会、甘酒の無料サービスなどが予定されています。\n　毎年大勢の初詣客で賑わう三熊野神社の年越三社会。みんなで楽しい年を越しませんか。\n\n◆年越三社会 \n　日時：12月31日午後11時頃～ \n　場所：三熊野神社（横須賀地区） \n　内容：もち・年越しそば等の販売\n　　　　お楽しみ抽選会、ほか \n　交通アクセス：東名掛川ICより車で約30分 \n　問い合わせ：掛川南部観光案内処\n　　　　　　　電話・ＦＡＸ：0537-48-0190 
LOCATION:
DTSTAMP:20111227T093027Z
LAST-MODIFIED:19700101T090000Z
SEQUENCE:0
STATUS:CONFIRMED
TRANSP:OPAQUE
END:VEVENT
BEGIN:VTIMEZONE
TZID:Asia/Tokyo
BEGIN:STANDARD
DTSTART:19700101T000000
TZOFFSETFROM:+0900
TZOFFSETTO:+0900
END:STANDARD
END:VTIMEZONE
END:VCALENDAR