BEGIN:VCALENDAR
PRODID:-//OpenSNP Project.//OpenSNP iCal(https://e-jan.kakegawa-net.jp/community/?bbs_id=147444)//
VERSION:2.0
CALSCALE:GREGORIAN
METHOD:PUBLISH
X-WR-CALNAME:VIVA@掛川 - 掛川市地域ＳＮＳ「ｅ－じゃん掛川」
X-WR-CALDESC:VIVA@掛川 - 掛川市地域ＳＮＳ「ｅ－じゃん掛川」
X-WR-TIMEZONE:Asia/Tokyo
BEGIN:VEVENT
UID:2fd48d14bc6d20d63b5765e029fdfdeeab86088d
CREATED:19000101T120000Z
DTSTART;VALUE=DATE:20100429
DTEND;VALUE=DATE:20100430
SUMMARY:“掛川城戦国まつり”開催
DESCRIPTION: ゴールデンウイークの4月29日～5月5日は「掛川を知るWEEK」と題して掛川城及びその周辺施設で様々なイベントが繰り広げられます。\n\nその中で掛川城では5月2日（日）“掛川城戦国まつり”が繰り広げられます。\n①戦国武将の出現\n遠州鎧仁会の方々による甲冑のパフォーマンスがあります。\n（9時頃から午後4時半頃まで）\nご一緒に記念写真をどうぞ！\nhttp://a-soviva.jp/shop/GRP10/SGP274/PGE1/002415.html\n②「遠州龍心会」の皆様による太鼓のパフォーマンス\n（午後1時頃から）\n\n\n③戸山流居合道の皆様による居合の公開稽古\n（午後2時頃から）\n\n\n以上二の丸広場にて\n\nそして5月2日と5日の2日間は山内一豊公の鎧（レプリカ）が二の丸御殿に展示されます\n\nhttp://a-soviva.jp/shop/GRP10/SGP274/PGE1/002414.html\nこちらは近々掛川城下にオープンする鎧屋さんの提供によるものです。\n\n＜その他関連施設＞\n①二の丸茶室\n・掛川新茶を楽しむ週間（4月30日～5月13日）\n　お煎茶（新茶）についてはお菓子付きで大人（400　円）、中学生以下（200円）\n・端午の節句茶会（5月5日）\n　煎茶（新茶）、抹茶共にお菓子付きで大人（400　　円）、中学生以下（200円）\n　http://a-soviva.jp/shop/000355.html\n\n②二の丸美術館\n　4月29日～5月5日まで小、中、高校生は入館無料\n\n③竹の丸\n・4月29日～5月5日まで「縁側カフェ」オープン\n　カフェセット：500円\n・5月2日ガイドシアター＆リーディングカフェ\n　参加費1500円　＊詳細は竹の丸まで\nhttp://a-soviva.jp/shop/GRP10/SGP274/PGE1/001216.html\n\n④大日本報徳社\n　4月30日、5月1日、2日　開館しています。\n\nこれら入館して廻るスタンプラリーがあります。\n応募すると素敵な商品が当たるかもしれません。\n\n＜天守閣ご紹介↓＞\nhttp://a-soviva.jp/shop/GRP10/SGP274/PGE1/000319.html\n＜二の丸御殿ご紹介↓＞\nhttp://a-soviva.jp/shop/GRP10/SGP274/PGE1/000352.html\n\nなお5月1日～5日まで天守閣前に鯉のぼりが泳いで、イベントを盛り上げます。
LOCATION:
DTSTAMP:20100428T223958Z
LAST-MODIFIED:19700101T090000Z
SEQUENCE:0
STATUS:CONFIRMED
TRANSP:OPAQUE
END:VEVENT
BEGIN:VEVENT
UID:c456643cc55d0447e80d95020e7650f68be9320d
CREATED:19000101T120000Z
DTSTART;VALUE=DATE:20100629
DTEND;VALUE=DATE:20100630
SUMMARY:ホストファミリー募集
DESCRIPTION: 掛川の姉妹都市ユージン市にある「友人学園」の児童とその保護者が掛川市を訪れます。\n\nホストファミリーになって頂けませんか？\n\n期間：6月29日（火）～7月2日（金）3泊4日\n募集家庭40家庭\n・児童・・・小学5，6年生（またはその前後）をお持ちの家庭20家庭\n・保護者・・・一般家庭２０家庭\n＊児童と保護者は別々の家庭に滞在します。\n\n申し込み期日：なるべく早目にお願いします。\n\nお問い合わせ\nNPO法人　掛川国際交流センター\n掛川市役所生涯学習まちづくり課内\n電話：０５３７－２１－１１２９\nFAX：０５３７－２１－１１６４\nmail:tiiki@city.kakegawa.shizuoka.jp\n\n宜しくお願い致します。
LOCATION:
DTSTAMP:20100531T223758Z
LAST-MODIFIED:19700101T090000Z
SEQUENCE:0
STATUS:CONFIRMED
TRANSP:OPAQUE
END:VEVENT
BEGIN:VEVENT
UID:54875c95ec4bbfa7170efe30c6c52d36658fa683
CREATED:19000101T120000Z
DTSTART;VALUE=DATE:20100606
DTEND;VALUE=DATE:20100607
SUMMARY:抹茶道初心者講座
DESCRIPTION: 二の丸茶室にて抹茶の作法でお菓子や、お茶の頂き方を学びます。\n\nとき：平成22年6月6日(日）\n1回目　午前10時から11時30分\n2回目　午後1時30分から3時\n\n2回とも同じ内容です。\n\nところ：掛川市二の丸茶室　広間\n講師　：掛川市文化協会茶道部　裏千家の先生方\n対象　：高校生以上の方　各回20名様\n参加料：1000円\n\n申し込み、お問い合わせ：二の丸茶室　0537-23-1199\n\n主催：（財）掛川市生涯学習振興公社（二の丸茶室）\n協力：掛川市文化協会茶道部\n\nよろしくお願い致します。\n\nhttp://a-soviva.jp/shop/000355.html
LOCATION:
DTSTAMP:20100601T220213Z
LAST-MODIFIED:19700101T090000Z
SEQUENCE:0
STATUS:CONFIRMED
TRANSP:OPAQUE
END:VEVENT
BEGIN:VEVENT
UID:7c7c85804269aa816a3bc9e71855b04e1f13170f
CREATED:19000101T120000Z
DTSTART;VALUE=DATE:20100615
DTEND;VALUE=DATE:20100616
SUMMARY:「七夕茶会」の夕べ!
DESCRIPTION: このたび、下記の通りお茶会を企画しました。\n\n　　　　　　　　記\nとき：　平成22年7月4日（日）　17:30～21:00\n\nところ：掛川市二の丸茶室　広間　庭園\n\n呈茶：　煎茶道　静風流一同\n\n茶券代：500円　静風流例茶と七夕にちなんだお菓子付き\n（茶券は6月15日より前売り販売、当日券もあります）\n\n笹飾り：6月15日より7月7日まで、二の丸茶室に笹を設置します、願い事、短歌などを募集中です。（短冊は用意してあります）\n\n申し込み、お問い合わせは二の丸茶室（電話0537－23－1199）まで\n\n主催：掛川市生涯学習振興公社（二の丸茶室）\n\nよろしくお願い致します。
LOCATION:
DTSTAMP:20100607T225318Z
LAST-MODIFIED:19700101T090000Z
SEQUENCE:0
STATUS:CONFIRMED
TRANSP:OPAQUE
END:VEVENT
BEGIN:VEVENT
UID:84904fbf556ac2922daa92ad39d630e5b1615902
CREATED:19000101T120000Z
DTSTART;VALUE=DATE:20100805
DTEND;VALUE=DATE:20100806
SUMMARY:“二の丸茶室”からのお知らせ
DESCRIPTION: 　掛川城“二の丸茶室”にて「煎茶道冷茶の入れ方講座」を開催します。\n\n時：平成22年8月28日（土）\n1回目・午前10時00分～11時00分\n2回目・午後1時30分～2時30分\n（内容は同じです）\n\n場所：掛川城二の丸茶室　広間\n講師：煎茶道　松月流の先生方\n募集人数：各回15名づつ（先着順、定員になり次第締め切ります）\n参加料：一般1000円、中学生以下500円\n\n申し込み、問い合わせは　電話0537-23-1199（二の丸茶室）\n
LOCATION:
DTSTAMP:20100805T212142Z
LAST-MODIFIED:19700101T090000Z
SEQUENCE:0
STATUS:CONFIRMED
TRANSP:OPAQUE
END:VEVENT
BEGIN:VEVENT
UID:18c81bab33d283a0b4a6bcf153f8e7e4c8856fcc
CREATED:19000101T120000Z
DTSTART;VALUE=DATE:20100701
DTEND;VALUE=DATE:20100702
SUMMARY:三遠南信「街道浪漫!」
DESCRIPTION: 「三遠南信」とは？ \n実は三河、遠州、南信州のことです。\n\nこれらの観光ラリースポットを廻って、それぞれに設置してあるクイズに答えて、応募すると、旅行券や地元の特産品が当たるかも知れません。\n\n・「街道ぶらり散策コース」：各エリア３ヵ所、合計９か所を廻る\n・「街道浪漫満喫コース」　：全30ヶ所全てを廻る\n＊どちらかを選択してください。\n\n掛川近辺では「掛川城」「アクティ森」「なぶら市場」などがラリースポットのなっています。\n\n詳細は掛川観光案内処、または掛川城（０５３７－２２－１１４６）まで\n
LOCATION:
DTSTAMP:20100809T223216Z
LAST-MODIFIED:19700101T090000Z
SEQUENCE:0
STATUS:CONFIRMED
TRANSP:OPAQUE
END:VEVENT
BEGIN:VEVENT
UID:e0f482a79da81401518df04a6f5f920833926acc
CREATED:19000101T120000Z
DTSTART;VALUE=DATE:20100821
DTEND;VALUE=DATE:20100822
SUMMARY:8.21は「県民の日」
DESCRIPTION: 　8月21日は\n『“ふじのくに”静岡県が生まれた日』 \nです。\n\n浜松縣と静岡縣が一緒になって現在の形の静岡県が誕生したのは\n明治9年（1876年）8月21日でした。\n\nそれを記念してこの日を「県民の日」と定めています。\n\n県内各地で今年も様々なイベントが準備されていますが、\n掛川市では下記の公共施設の入館が、無料になります。\n\n・掛川城（天守閣、二の丸御殿）\n・二の丸美術館\n・竹の丸\n・吉岡弥生記念館\n\nなお『県民の日』の掛川城独自のイベントとして、戦国武将、並びに忍者、\nもしかしたら綺麗どころの「九の一」が皆様をお迎えし、掛川城のご案内をする\n予定です。\n\nhttp://a-soviva.jp/shop/GRP/SGP/PGE4/003417.html\n\n\nぜひこの機会に掛川城に遊びに来て下さい。\n\n\n
LOCATION:
DTSTAMP:20100812T134526Z
LAST-MODIFIED:19700101T090000Z
SEQUENCE:0
STATUS:CONFIRMED
TRANSP:OPAQUE
END:VEVENT
BEGIN:VEVENT
UID:db70bc7228e3dacfe0118497a2af49ae141e351a
CREATED:19000101T120000Z
DTSTART;VALUE=DATE:20100909
DTEND;VALUE=DATE:20100910
SUMMARY:日本語教室サポーター募集
DESCRIPTION: 9月26日から「日本語教室・2学期」が開催されます。\nあなたも、在住外国人に日本語を教えるためのお手伝いをしてみませんか？\n\n特に経験や資格は問いませんので、気楽に参加して下さい。\n\n日時：9月26日（日）から12月5日（日）までの計10回、毎週日曜日13時～\n\n場所：掛川市役所4階会議室\n\nまずは見学だけして頂いても結構です。\n\n日本語の教え方講習会も開かれます。\n時：9月12日（日）13:30～15:30\n所：さんりーな研修室\n\n＜お問い合わせ＞\nＮＰＯ法人　掛川国際交流センター\n電話・ﾌｧｯｸｽ　0537－24－5595\ne.mail glocal@lily.ocn.ne.jp
LOCATION:
DTSTAMP:20100909T214522Z
LAST-MODIFIED:19700101T090000Z
SEQUENCE:0
STATUS:CONFIRMED
TRANSP:OPAQUE
END:VEVENT
BEGIN:VEVENT
UID:4620f62a2b876c61c6e1a5fb8c15d61c397f3bcb
CREATED:19000101T120000Z
DTSTART;VALUE=DATE:20101123
DTEND;VALUE=DATE:20101124
SUMMARY:歴史好きな男女集まれ!
DESCRIPTION: 「掛川城特別企画」“歴史好きな男女集まれ” \n\n\n歴史に興味のある方、或いはちょっと興味を持ち始めている方などの独身男女の方々に掛川城に集合して頂いて交流を深めて行く、できれば「掛川城が素晴らしい出会いの場」になるようにサポートして行きたいと思っています。\n\n最初に忍者または鎧武者姿のスタッフが、掛川城及び竹の丸の歴史についてご案内しするツアーがあります。\n \n  \n☆日時：2010年11月23日（火）祝日　9時30分より14時頃まで\n＊昼食は掛川グランドホテル\n\n☆会費：男性3,000円　女性2,000円\n\n☆参加資格：20歳～40歳までの独身男女\n但し男性は掛川在住者、女性は不問\n\n☆定員：男女各15名\n\n☆受付日：11月1日（月）より、定員になり次第締め切ります。\n\n☆申し込み：（財）掛川市生涯学習振興公社　掛川城管理事務所\n電話：0537-22-1146（高柳、戸田、水野）\nFax：0537-23-1099（性別、住所、氏名、年齢、連絡先）\n\n＜詳細はｺﾁﾗ＞\n\nhttp://a-soviva.jp/shop/GRP63/SGP527/PGE1/000319.html\n
LOCATION:
DTSTAMP:20101030T200319Z
LAST-MODIFIED:19700101T090000Z
SEQUENCE:0
STATUS:CONFIRMED
TRANSP:OPAQUE
END:VEVENT
BEGIN:VEVENT
UID:cd91f1337aed5e1e9b6913263fd762a8d1ce1409
CREATED:19000101T120000Z
DTSTART;VALUE=DATE:20101126
DTEND;VALUE=DATE:20101127
SUMMARY:ユージン研修生募集!
DESCRIPTION: 高校生のためのホームステイプログラム\n「第5回高校生ユージン研修生」を募集します。\n\n☆日程：平成23年3月20日（日）～28日(月）　7泊9日\n\n☆費用：20万円（１/３は補助あり）\n\n☆行先：オレゴン州ユージン市及びポートランド\n\n☆対象：高校生・男女10名（市内在住または在学）\n\n☆申込：NPO法人　掛川国際交流センター（掛川市役所・2階）\n\n電話（0537）21-1129\nFax（0537)21-1164\ne-mail:tiiki@city.kakegawa.shizuoka.jp\n
LOCATION:
DTSTAMP:20101031T083249Z
LAST-MODIFIED:19700101T090000Z
SEQUENCE:0
STATUS:CONFIRMED
TRANSP:OPAQUE
END:VEVENT
BEGIN:VEVENT
UID:3c8f8afa4dbd90d112a6eb70c3f87f44b58ea902
CREATED:19000101T120000Z
DTSTART;VALUE=DATE:20101219
DTEND;VALUE=DATE:20101220
SUMMARY:演劇集団es 第6回公演
DESCRIPTION: \n来る12月19日（日）演劇集団esの第6回公演が、袋井市上山梨「月見の里学遊館・うさぎホール」にて開演されます。\n\nこの機会にぜひお出かけください。
LOCATION:
DTSTAMP:20101210T211933Z
LAST-MODIFIED:19700101T090000Z
SEQUENCE:0
STATUS:CONFIRMED
TRANSP:OPAQUE
END:VEVENT
BEGIN:VEVENT
UID:cde0bb70b45e32fe72908e1c73f2b13814876b37
CREATED:19000101T120000Z
DTSTART;VALUE=DATE:20110320
DTEND;VALUE=DATE:20110321
SUMMARY:高校生ユージン研修募集
DESCRIPTION: 第5回高校生ユージン訪問団の追加募集です。\n\n10月に募集しましたが、定員10名に対して2名不足の為、再度募集しています。\n\n参加対象者\n①掛川市内に在住の高校生（通っている学校は市外でもOK)\n②掛川市内の高校に通学している高校生（住所は市外でもOK)\n\n日程：平成23年3月20日～28日までの7泊9日\n\n費用：20万円（内1/3程度を補助します）\n\n滞在：オレゴン州　ユージン市\n\n締切：2010年12月20日\n\n申し込み/お問い合わせ\nNPO法人　掛川国際交流センター（掛川市役所2階）\n\n電話（0537)21-1129　Fax（0537)21-1164\ne-mail:tiiki@city.kakegawa.shizuoka.jp\n
LOCATION:
DTSTAMP:20101214T170706Z
LAST-MODIFIED:19700101T090000Z
SEQUENCE:0
STATUS:CONFIRMED
TRANSP:OPAQUE
END:VEVENT
BEGIN:VEVENT
UID:ff6c111850e41205ca44de7a91f24ae1d38ac3bd
CREATED:19000101T120000Z
DTSTART;VALUE=DATE:20110102
DTEND;VALUE=DATE:20110103
SUMMARY:掛川城“お正月企画”
DESCRIPTION: 　掛川城の新年は1月2日からスタートです　\n\n\nそこで掛川城ならではの、お正月スペシャルイベントをご紹介します \n\n \n＜1月2日の催し物＞\n①入館者に神官の方から、希望者に新年のお祓いをします（無料）\n　二の丸御殿にて朝9時～12時頃まで随時\n\n②入館者に家康公お手植えミカン、甘酒、小さなお子様にはお菓子のプレゼント\n　券売所前にて朝9時から先着順、お侍さんたちや忍者さんが配布します\n\n③鎧武者、忍者との記念撮影と掛川城観光ガイド\n　券売所前にて受付、朝9時から夕方4時頃まで随時\n\n＜1月3日の催し物＞\n①入館者に家康公お手植えミカン、甘酒、小さなお子様にはお菓子のプレゼント\n　券売所前にて朝9時から先着順、お侍さんたちや忍者さんが配布します\n\n②鎧武者、忍者との記念撮影と掛川城観光ガイド\n　券売所前にて受付、朝9時から夕方4時頃まで随時\n\n　なお二の丸美術館、二の丸茶室は1月4日から開館します。\n\n \nよろしくお願いします。　
LOCATION:
DTSTAMP:20101228T114542Z
LAST-MODIFIED:19700101T090000Z
SEQUENCE:0
STATUS:CONFIRMED
TRANSP:OPAQUE
END:VEVENT
BEGIN:VEVENT
UID:ac99ce9087dd255cc29082efa72d8832b5b73f93
CREATED:19000101T120000Z
DTSTART;VALUE=DATE:20110121
DTEND;VALUE=DATE:20110122
SUMMARY:“王将戦第2局”掛川城の戦い始まる
DESCRIPTION: 昨年に引き続いて今年も掛川城二の丸茶室にて王将戦が行われます。\n\n \n昨年羽生善治氏から奪取した久保利明王将（35歳）は現在「王将位」と「棋王位」の両タイトル保持者です。\n\n\n第60期の今年は豊島将之六段（20歳）から挑戦を受けます。\n既に第一局は1月8日～9日、徳島県鳴門市で行われ、久保王将が勝利しています。\n第二局の掛川対局ではどんな戦いを見せてくれるのでしょう。\n\nとき：1月21日(金)　午前9時～6時\n　　　1月22日(土)　午前9時～対局終了まで\n\n場所：掛川城二の丸茶室\n\nなお一般の方は直接観戦ができません。\n大盤解説会にてご覧になれます。\n\n＜大盤解説会＞\nとき：1月21日(金)　午後1時から6時まで\n　　　1月22日(土)　午前10時から対局終了まで\n場所：大日本報徳社大講堂（掛川城々内）\n定員：各日150人前後\n入場料：1,000円（高校生以下無料）\n申し込みは当日会場にて受け付けます。\n\n駐車場は大手門駐車場をご利用ください\n\nなお二の丸茶室は20日から23日の3日間は貸し切りとなりますので、一般の方のご利用はできません。\n24日（月）は二の丸茶室の定休日です。
LOCATION:
DTSTAMP:20110117T174225Z
LAST-MODIFIED:19700101T090000Z
SEQUENCE:0
STATUS:CONFIRMED
TRANSP:OPAQUE
END:VEVENT
BEGIN:VEVENT
UID:d143ea5f067cacc597e6dc54ffed6165573c93dc
CREATED:19000101T120000Z
DTSTART;VALUE=DATE:20110226
DTEND;VALUE=DATE:20110227
SUMMARY:東映配給　“必死剣・鳥刺し”　上映会
DESCRIPTION: 　2009年9月の初旬、掛川城二の丸御殿にてロケが行われた藤沢周平原作「必死剣・鳥刺し」の地元上映会が始まります\n\n \n掛川城では豊川悦司さん吉川晃司さんなどの主演級男優さんが、早朝から夜遅くまで数日間演技を見せてくれていました。\n\n \n＜日時：会場＞\n・2月26日（土）①14:00　②18:00　掛川市生涯学習センター\n・2月27日（日）14:00　　菊川文化会館「アエル」\n\n＜入場料＞\n1,400円：大人、子供均一\n（割引券持参の方は1,000円）\n＊割引券は各上映会場及び掛川城に置いてあります。\n\n＜お問い合わせ＞\n掛川城管理事務所　0537-22-1146\n掛川市生涯学習センター　電話0537-24-7777\n\n＜予告編↓＞\nhttp://www.torisashi.com/\n\n
LOCATION:
DTSTAMP:20110208T200419Z
LAST-MODIFIED:19700101T090000Z
SEQUENCE:0
STATUS:CONFIRMED
TRANSP:OPAQUE
END:VEVENT
BEGIN:VEVENT
UID:e0d6bbb91791b348d005c92f98bdfc3323b5255c
CREATED:19000101T120000Z
DTSTART;VALUE=DATE:20110429
DTEND;VALUE=DATE:20110430
SUMMARY:講演会「奪われた平和な村のくらし」
DESCRIPTION: 福島第一原子力発電所から40kmに位置する福島県飯館村、この地域で放射能汚染調査をして来た掛川市出身の小澤祥司氏が状況報告会を行います。 \n\n＜日時＞　\n4月29日（祝）\n13時30分から15時00分\n\n＜会場＞\n桜木ホール\n（旧桜木幼稚園、JA桜木支所北側）\n\n入場無料\n\n＜主催＞\nNPO法人エコロジーアクション桜ケ丘の会\n（お問い合わせ：0537-26-0887）\n\n（詳細はコチラ↓）
LOCATION:
DTSTAMP:20110410T214837Z
LAST-MODIFIED:19700101T090000Z
SEQUENCE:0
STATUS:CONFIRMED
TRANSP:OPAQUE
END:VEVENT
BEGIN:VEVENT
UID:b231d587780c5d56978000db68a00a8736b4f6f1
CREATED:19000101T120000Z
DTSTART;VALUE=DATE:20110429
DTEND;VALUE=DATE:20110430
SUMMARY:ゴールデンウイークの掛川城
DESCRIPTION: 今年は昨年に比較すると少し地味ですが、掛川城としてのイベント企画をお知らせします。\n\n①天守閣に鯉のぼり（天守閣登城路）\n\n \n②山内一豊公の鎧展示（二の丸御殿）\n\n\n③鎧武者または忍者の登場（お城の周辺、城下町）\n\n \n\n皆さんで探して下さいね！\n\nなお5月3日はこだわりっぱのイベント広場にて掛川お茶大使「吉岡亜衣加」に依るトーク＆ミニライブが行われる予定です。\n（10:00～10:30）\n\n「友引ストリートカフェ」は駅前通りで3日・10:00～15:00まで開催されます。
LOCATION:
DTSTAMP:20110429T205020Z
LAST-MODIFIED:19700101T090000Z
SEQUENCE:0
STATUS:CONFIRMED
TRANSP:OPAQUE
END:VEVENT
BEGIN:VEVENT
UID:dc4b7e6804448ca4d34cbbbacbbfb9f00666dacb
CREATED:19000101T120000Z
DTSTART;VALUE=DATE:20110701
DTEND;VALUE=DATE:20110702
SUMMARY:星に願いを!
DESCRIPTION: 　掛川城では天守閣前広場に竹笹を用意して、ご来場者に書いて頂いた「短冊」を笹に飾りつけします。\n\n券売所の横に短冊と筆を用意します\n（無料です）\n\n実施期間　平成23年7月1日～7月7日まで\n\n\n主催：掛川市生涯学習振興公社\n\n＜お問合わせ先＞\n掛川城管理事務所\n電話：0537-22-1146
LOCATION:
DTSTAMP:20110611T095705Z
LAST-MODIFIED:19700101T090000Z
SEQUENCE:0
STATUS:CONFIRMED
TRANSP:OPAQUE
END:VEVENT
BEGIN:VEVENT
UID:faebdb57abcc45dc7849b6672863b156b37d367b
CREATED:19000101T120000Z
DTSTART;VALUE=DATE:20110916
DTEND;VALUE=DATE:20110917
SUMMARY:ユージン市訪問団員募集
DESCRIPTION: 「掛川市の姉妹都市ユージン市を訪ねてみませんか！」 \n\n第33次ユージン訪問団員を募集しています\nユージンは夏もスッキリしていて、暑さ知らずです。\n\n\n募集人員：10名\n\n日程：2011年9月16日（金）～9月22日（木）　5泊7日\n\n9/16　　　掛川～成田～ポートランド空港　セーラム市内観光（ホテル泊）\n9/17～19　ホームステイ　\n9/20～21　市長表敬訪問　市内観光など（ホテル泊）\n9/22　　　ポートランド～成田～掛川\n\n費用：24万円（多少の変動があるかもしれません）\n\n＜お問合わせ先＞\n\nNPO法人掛川国際交流センター\n（生涯学習まちづくり課内）\n電話：0537-21-1129\nmail：tiiki@city.kakegawa.shizuoka.jp\n\n\n\n
LOCATION:
DTSTAMP:20110611T102340Z
LAST-MODIFIED:19700101T090000Z
SEQUENCE:0
STATUS:CONFIRMED
TRANSP:OPAQUE
END:VEVENT
BEGIN:VEVENT
UID:241188edbfebe684af39364057a0eb1dd938d7f0
CREATED:19000101T120000Z
DTSTART;VALUE=DATE:20110813
DTEND;VALUE=DATE:20110814
SUMMARY:掛川城無料開館について
DESCRIPTION: 【夕涼みコンサートと夜間無料開館】\n\n天守閣は夏休みの3日間、夜間無料開館します。 \nそれに合わせて夜間は夕涼みコンサート（無料）が催される予定です。\n\n\n＜無料開館＞\n8月13日(土)～15日（月）までの3日間\n13日～14日：夕方5時から夜8時30分\n15日：朝9時～夜8時30分（県民の日の無料開館を前倒し、終日無料）\n\n＜夕涼みコンサート＞\n午後7時～8時30分（雨天中止）\n・13日（土）：オカリナの演奏\n・14日（日）：声楽とエレクトーン演奏\n・15日（月）：大東ふるさと太鼓\n\nなお14日、15日は鎧武者または忍者も現れる予定です。\nご希望があれば掛川城の案内も致します。\n\n＜お問合わせ＞\n掛川城管理事務所　電話：０５３７（２２）１１４６\n\nご注意！８月２１日は静岡県民の日で例年は無料で入館出来ましたが、掛川城は今回１５日に前倒しさせて頂きますので、２１日の入館は有料になります。
LOCATION:
DTSTAMP:20110809T124401Z
LAST-MODIFIED:19700101T090000Z
SEQUENCE:0
STATUS:CONFIRMED
TRANSP:OPAQUE
END:VEVENT
BEGIN:VTIMEZONE
TZID:Asia/Tokyo
BEGIN:STANDARD
DTSTART:19700101T000000
TZOFFSETFROM:+0900
TZOFFSETTO:+0900
END:STANDARD
END:VTIMEZONE
END:VCALENDAR