BEGIN:VCALENDAR
PRODID:-//OpenSNP Project.//OpenSNP iCal(https://e-jan.kakegawa-net.jp/community/?bbs_id=155881)//
VERSION:2.0
CALSCALE:GREGORIAN
METHOD:PUBLISH
X-WR-CALNAME:「達人に学び伝える会」 - 掛川市地域ＳＮＳ「ｅ－じゃん掛川」
X-WR-CALDESC:「達人に学び伝える会」 - 掛川市地域ＳＮＳ「ｅ－じゃん掛川」
X-WR-TIMEZONE:Asia/Tokyo
BEGIN:VEVENT
UID:9bf5cb098bf4fb499f43685859776f22a2329d51
CREATED:19000101T120000Z
DTSTART;VALUE=DATE:20110311
DTEND;VALUE=DATE:20110312
SUMMARY:葛のある衣食住(暮らし)展
DESCRIPTION: ３月１１日、１２日、１３日\n\n竹の丸にて\n\n先日の体験会で皆さんが織った葛の作品も展示されます
LOCATION:
DTSTAMP:20110212T085200Z
LAST-MODIFIED:19700101T090000Z
SEQUENCE:0
STATUS:CONFIRMED
TRANSP:OPAQUE
END:VEVENT
BEGIN:VEVENT
UID:cba0d1e833aa57237368e63dc978496b880b0866
CREATED:19000101T120000Z
DTSTART;VALUE=DATE:20110327
DTEND;VALUE=DATE:20110328
SUMMARY:ジャンボシャボン玉で遊ぶ
DESCRIPTION: 生涯学習センターアドバイザーフェスティバルにて
LOCATION:
DTSTAMP:20110212T085513Z
LAST-MODIFIED:19700101T090000Z
SEQUENCE:0
STATUS:CONFIRMED
TRANSP:OPAQUE
END:VEVENT
BEGIN:VEVENT
UID:a3df6a81a6279a301d6e94d43963c3c3e2e55c05
CREATED:19000101T120000Z
DTSTART;VALUE=DATE:20110605
DTEND;VALUE=DATE:20110606
SUMMARY:楽しい体験
DESCRIPTION: 達人に学び伝える会が染物の体験会のお手伝いをしました。\n\n楽しかったですよ～\n\n\n\nハンカチのマーブル染めです。\n
LOCATION:
DTSTAMP:20110607T003314Z
LAST-MODIFIED:19700101T090000Z
SEQUENCE:0
STATUS:CONFIRMED
TRANSP:OPAQUE
END:VEVENT
BEGIN:VEVENT
UID:120d1ff3d88e8ee5072eea24f34615484b1fcbe0
CREATED:19000101T120000Z
DTSTART;VALUE=DATE:20110723
DTEND;VALUE=DATE:20110724
SUMMARY:葛苧作り体験講座
DESCRIPTION: 葛を採取し葛苧（繊維）をつくります。\n\n日時　７月２３日　（土）　\n　　市役所正面玄関集合　８：３０　時間厳守\n\n　　葛の採取、葛苧製作取現場へ移動　\n\n　　終了　１４：００　\n\n参加　どなたでも（小学生は保護者同伴）\n\n会費　５００円（保険料を含みます）\n\n持ち物　弁当，飲み物、ハサミ。\n　　　　汚れてもいい服装で帽子を忘れずに\n\n申し込み　電話またはＦＡＸ　２３－２５１４　村松まで\n\n去年の様子はこちら\n\nhttp://leico.jugem.jp/?eid=1898\n\n
LOCATION:
DTSTAMP:20110705T124021Z
LAST-MODIFIED:19700101T090000Z
SEQUENCE:0
STATUS:CONFIRMED
TRANSP:OPAQUE
END:VEVENT
BEGIN:VEVENT
UID:ed4f573459d17ebbe745993bb0e15e4f6682fd32
CREATED:19000101T120000Z
DTSTART;VALUE=DATE:20110824
DTEND;VALUE=DATE:20110825
SUMMARY:葛の和紙作り教室
DESCRIPTION: 日時　　　８月２４日（水）　午前９：００～１２：００\n場所　　　環境資源ギャラリー\n参加費　　無料\n募集　　　２０人（応募者多数の場合は抽選になります）\n\n   定員に達したため締め切らせていただきました。\n\n持ち物　　タオル　エプロン\n\n\nhttp://www.kankyoshigen-gallery.jp/PDF/kuzu-pos.pdf
LOCATION:
DTSTAMP:20110803T095747Z
LAST-MODIFIED:19700101T090000Z
SEQUENCE:0
STATUS:CONFIRMED
TRANSP:OPAQUE
END:VEVENT
BEGIN:VEVENT
UID:6a79d10f4222c029593aabb2e5959161215fe0b4
CREATED:19000101T120000Z
DTSTART;VALUE=DATE:20111105
DTEND;VALUE=DATE:20111106
SUMMARY:消費生活展
DESCRIPTION: 達人に学び伝える会も参加しています。\n葛織り体験ができます。\n葛湯の試飲もありますよ
LOCATION:
DTSTAMP:20111105T082557Z
LAST-MODIFIED:19700101T090000Z
SEQUENCE:0
STATUS:CONFIRMED
TRANSP:OPAQUE
END:VEVENT
BEGIN:VEVENT
UID:90bf8767744314d8c7d1969bf2799debd57614b1
CREATED:19000101T120000Z
DTSTART;VALUE=DATE:20120208
DTEND;VALUE=DATE:20120209
SUMMARY:葛布織り体験講座を開催します
DESCRIPTION: 日時平成２４年２月８日（水）１０時～１４時頃\n場所　竹の丸ギャラリー\n参加費　　５００円　　　（葛苧の量により）\n\n募集人員　　　１０名\n\n募集人数になり次第終わりますのでお早めにお願いします
LOCATION:
DTSTAMP:20120111T205207Z
LAST-MODIFIED:19700101T090000Z
SEQUENCE:0
STATUS:CONFIRMED
TRANSP:OPAQUE
END:VEVENT
BEGIN:VEVENT
UID:52945c9ef7d10b22103002b6220e162347a9cc3a
CREATED:19000101T120000Z
DTSTART;VALUE=DATE:20120303
DTEND;VALUE=DATE:20120304
SUMMARY:葛のある暮らし展開催予定
DESCRIPTION: 葛のある暮らし展示会を開催します\n恒例になりましたが今年も竹の丸で開催します\n葛に関係する作品や製品を展示して『特産品の葛』を市民の皆さんに知っていただきます。\n現葛布の業者さんの協力も得ていきたいとおもいますし元葛布関係に携わっていた皆さんにも呼びかけていきたいと思います。\nご存じの方がありましたらご紹介ください。
LOCATION:
DTSTAMP:20120116T093129Z
LAST-MODIFIED:19700101T090000Z
SEQUENCE:0
STATUS:CONFIRMED
TRANSP:OPAQUE
END:VEVENT
BEGIN:VEVENT
UID:1b3943995c3f6db0901878045b3c41ae45d71eeb
CREATED:19000101T120000Z
DTSTART;VALUE=DATE:20120303
DTEND;VALUE=DATE:20120304
SUMMARY:葛のある暮らし展示会
DESCRIPTION: 竹の丸にて
LOCATION:
DTSTAMP:20120302T234102Z
LAST-MODIFIED:19700101T090000Z
SEQUENCE:0
STATUS:CONFIRMED
TRANSP:OPAQUE
END:VEVENT
BEGIN:VEVENT
UID:abbe49606604adcd4de7760fbc5ef71ecf72059c
CREATED:19000101T120000Z
DTSTART;VALUE=DATE:20130315
DTEND;VALUE=DATE:20130316
SUMMARY:葛のあるくらし展及び講演会のご案内
DESCRIPTION: 平成25年度葛のあるくらし展ご案内\n\n日時平成２５年３月１５日（金）～２０日（水）春分の日まで\n　　　　　　　　　　　　　１０時から１６時まで\n場所　竹の丸\n　\n講演会　　「掛川の葛布について」　　講師　松本方之氏\n　　　　日時　　３月17日１３時３０分～１５時まで
LOCATION:
DTSTAMP:20130219T104352Z
LAST-MODIFIED:19700101T090000Z
SEQUENCE:0
STATUS:CONFIRMED
TRANSP:OPAQUE
END:VEVENT
BEGIN:VEVENT
UID:38a1fcab56962eb487c288d4537cd87a405684ae
CREATED:19000101T120000Z
DTSTART;VALUE=DATE:20130727
DTEND;VALUE=DATE:20130728
SUMMARY:葛布の糸を草からとってみよう
DESCRIPTION: 雑草の葛から葛苧を取るまでの作業を行います。\n\n\n７月２７日（土）　８：３０～１５：００\n市役所正面玄関前集合（採集、制作場へ移動）\n\n持ち物　カマまたは木バサミ、軍手、帽子、お弁当、飲み物\n\n対象　どなたでも（小学３年生以下は保護者同伴）\n参加費　５００円　保険料を含みます\n\n申し込みは電話で（申し込み順）　２６－４９８０　藤井まで\n\n\n\n\n\n\n\n\n\n\n\n\n\n
LOCATION:
DTSTAMP:20130702T102241Z
LAST-MODIFIED:19700101T090000Z
SEQUENCE:0
STATUS:CONFIRMED
TRANSP:OPAQUE
END:VEVENT
BEGIN:VEVENT
UID:3975cc8a3e8b21c474a599a6d849cfea5a201cf3
CREATED:19000101T120000Z
DTSTART;VALUE=DATE:20131217
DTEND;VALUE=DATE:20131218
SUMMARY:葛織り体験講座を開催します
DESCRIPTION: 環境資源ギャラリーで、葛織りの体験講座があります。
LOCATION:
DTSTAMP:20131205T152823Z
LAST-MODIFIED:19700101T090000Z
SEQUENCE:0
STATUS:CONFIRMED
TRANSP:OPAQUE
END:VEVENT
BEGIN:VEVENT
UID:4a3a6dc63c81ea0fb547a124a4103306892bc4f6
CREATED:19000101T120000Z
DTSTART;VALUE=DATE:20140305
DTEND;VALUE=DATE:20140306
SUMMARY:葛のある暮らしの展示会がはじまります
DESCRIPTION: 竹の丸で、葛のある暮らしの展示会があります。\n\n葛苧作り体験講座、葛織り体験講座の受講生の皆さんの作品、達人に学び伝える会のメンバーの作品\n\n（葛苧作りから初めて、織り、作品に仕上げたもの）を展示しています。\n\n\nまた、江戸時代の裃や道中着なども展示しています。
LOCATION:
DTSTAMP:20140304T185208Z
LAST-MODIFIED:19700101T090000Z
SEQUENCE:0
STATUS:CONFIRMED
TRANSP:OPAQUE
END:VEVENT
BEGIN:VEVENT
UID:9cfaa2b11c78e2d4476a209cc132d02779c5659f
CREATED:19000101T120000Z
DTSTART;VALUE=DATE:20140726
DTEND;VALUE=DATE:20140727
SUMMARY:葛苧作り体験講座
DESCRIPTION: 今年もやります。\n\n\n日時　　　７月２６日（土）　午前８時半から午後３時ごろまで\n\n集合場所　掛川市役所玄関前（作業場所へ移動します）\n\n募集対象　興味をもっている人ならだれでも\n\n募集人数　２０人（定員になり次第縞切ります）\n\n参加費　　一人５００円（保険料を含みます）\n\n持ち物　　弁当、飲み物、軍手、帽子、タオル、カマまたは剪定ばさみ\n\n浅い川の中でも作業します。\n小さいお子さんは着替えも用意してください。
LOCATION:
DTSTAMP:20140616T194955Z
LAST-MODIFIED:19700101T090000Z
SEQUENCE:0
STATUS:CONFIRMED
TRANSP:OPAQUE
END:VEVENT
BEGIN:VEVENT
UID:e4c7866ab612ea9640736bd9dca992d84c0b8018
CREATED:19000101T120000Z
DTSTART;VALUE=DATE:20141212
DTEND;VALUE=DATE:20141213
SUMMARY:葛織り体験講座
DESCRIPTION: 卓上折り機で葛の小品を作ります。\n\n\n日時　１２月１２日（金）　午前１０：００～午後２：００\n\n場所　環境資源ギャラリー（満水）\n\n募集人員　２０名\n\n体験料金　１０００円（材料費を含みます）\n\n持ち物　はさみ　弁当\n　\n申し込み　電話またはFAXで\n　　　　　達人に学び伝える会　加藤　まで\n\n\n\n\n\n\n画像は昨年の講座の様子です。
LOCATION:
DTSTAMP:20141205T174807Z
LAST-MODIFIED:19700101T090000Z
SEQUENCE:0
STATUS:CONFIRMED
TRANSP:OPAQUE
END:VEVENT
BEGIN:VEVENT
UID:5094de9b692b4bd1f1439816a8778fbd7fdb9686
CREATED:19000101T120000Z
DTSTART;VALUE=DATE:20150327
DTEND;VALUE=DATE:20150328
SUMMARY:「葛布(カップ)のある生活」展
DESCRIPTION: \n今年は場所を中央図書館に変更しての展示会です。\n\n日時　３月２７日（金）～２９日（日）　午前９：００～午後５：００\n場所　掛川市中央図書館　入口ホール\n\n展示内容　　葛布製品　葛の手作り作品\n\n　　　　　　葛に関する図書館の資料\n\n　　　　　　葛の採取から葛布ができるまでの工程\n\n　　　　　　葛織り体験\n\n主催　　　　達人に学び伝える会
LOCATION:
DTSTAMP:20150320T102957Z
LAST-MODIFIED:19700101T090000Z
SEQUENCE:0
STATUS:CONFIRMED
TRANSP:OPAQUE
END:VEVENT
BEGIN:VEVENT
UID:ad95e1f5c4029879c26cf0aa722a1fa5e7c38736
CREATED:19000101T120000Z
DTSTART;VALUE=DATE:20160317
DTEND;VALUE=DATE:20160318
SUMMARY:葛を使った作品展
DESCRIPTION: 葛の手作り作品展です。\n葛を採取し葛苧を作るところから始めています。
LOCATION:環境資源ギャラリー
DTSTAMP:20160315T173329Z
LAST-MODIFIED:19700101T090000Z
SEQUENCE:0
STATUS:CONFIRMED
TRANSP:OPAQUE
END:VEVENT
BEGIN:VEVENT
UID:094413eb97a5191bb6c3d7829c1bc8a260645956
CREATED:19000101T120000Z
DTSTART;VALUE=DATE:20160628
DTEND;VALUE=DATE:20160629
SUMMARY:映像で振り返る掛川の昭和史（桜木地区）
DESCRIPTION: 桜木福祉協議会では地区の5カ所でさわやかサロンを開催しました。その中の上垂木地区からの依頼を受けて、スクリーンに昭和の出来事を次々に写し、簡単なキャプションを加えました。出席対象者はは83歳以上の方と75歳以上の単身者なので、昔の生活ぶりや各地の景色、出来事などに強い共感を覚えてくださいました。\n写真は図書館の本をコピーしたり、その地元の方から借りたものを使う場合もありますが、ほとんどは郷土新聞が保管している写真の中から選んで、それをパソコンに取り入れて編集しました。これまでに水垂や西郷、城北、東山口、南郷、本郷、大須賀などで上映しました。
LOCATION:桜木地区上垂木さわやかサロン
DTSTAMP:20160629T002011Z
LAST-MODIFIED:19700101T090000Z
SEQUENCE:0
STATUS:CONFIRMED
TRANSP:OPAQUE
END:VEVENT
BEGIN:VEVENT
UID:4c5d355e89aa294ed7cafa35601deccfd253712c
CREATED:19000101T120000Z
DTSTART;VALUE=DATE:20160820
DTEND;VALUE=DATE:20160821
SUMMARY:作って遊ぼう水てっぽう
DESCRIPTION: 竹を使って水てっぽうをつくります\n参加無料です\n\n申し込みは８月１５日までに環境資源ギャラリーへ電話でお願いします。
LOCATION:環境資源ギャラリー
DTSTAMP:20160706T162340Z
LAST-MODIFIED:19700101T090000Z
SEQUENCE:0
STATUS:CONFIRMED
TRANSP:OPAQUE
END:VEVENT
BEGIN:VEVENT
UID:6dbac9535a163083a88f6547d6c3b97cd7b1c866
CREATED:19000101T120000Z
DTSTART;VALUE=DATE:20161001
DTEND;VALUE=DATE:20161002
SUMMARY:大人のワークショップｉｎ竹の丸
DESCRIPTION: 竹の丸のイベントに達人に学び伝える会も参加します
LOCATION:竹の丸
DTSTAMP:20160929T210024Z
LAST-MODIFIED:19700101T090000Z
SEQUENCE:0
STATUS:CONFIRMED
TRANSP:OPAQUE
END:VEVENT
BEGIN:VTIMEZONE
TZID:Asia/Tokyo
BEGIN:STANDARD
DTSTART:19700101T000000
TZOFFSETFROM:+0900
TZOFFSETTO:+0900
END:STANDARD
END:VTIMEZONE
END:VCALENDAR